BEGIN:VCALENDAR
VERSION:2.0
METHOD:PUBLISH
PRODID:-//Missouri State University/Calendar of Events//EN
CALSCALE:GREGORIAN
X-WR-TIMEZONE:America/Chicago
BEGIN:VTIMEZONE
TZID:America/Chicago
BEGIN:DAYLIGHT
TZOFFSETFROM:-0600
TZOFFSETTO:-0500
DTSTART:20070311T020000
RRULE:FREQ=YEARLY;BYMONTH=3;BYDAY=2SU
TZNAME:CDT
END:DAYLIGHT
BEGIN:STANDARD
TZOFFSETFROM:-0500
TZOFFSETTO:-0600
DTSTART:20071104T020000
RRULE:FREQ=YEARLY;BYMONTH=11;BYDAY=1SU
TZNAME:CST
END:STANDARD
END:VTIMEZONE
BEGIN:VEVENT
UID:ec09bcf4-80b8-4b64-a347-bee40a774e96.234221@calendar.missouristate.edu
CREATED:20240206T200422Z
LAST-MODIFIED:20240206T200422Z
LOCATION:Great Southern Bank Arena
SUMMARY:Men's Basketball Game T-Shirt Swap
DESCRIPTION:Bring a t-shirt from a different college and swap it for a t-s
 hirt celebrating Clif Smart's last year! \n\n\nSTUDENTS MUST SHOW BEARPAS
 S TO SWAP!
X-ALT-DESC;FMTTYPE=text/html:&lt;html&gt;&lt;head&gt;&lt;title&gt;&lt;/title&gt;&lt;/head&gt;&lt;body&gt;&lt;p&gt;Br
 ing a t-shirt from a different college and swap it for a t-shirt celebrat
 ing Clif Smart's last year!&amp;nbsp\;&lt;/p&gt;\n&lt;p&gt;STUDENTS MUST SHOW BEARPASS TO
  SWAP!&lt;/p&gt;&lt;/body&gt;&lt;/html&gt;
DTSTART;TZID=America/Chicago:20240221T183000
DTEND;TZID=America/Chicago:20240221T193000
SEQUENCE:0
URL:122992.jpg
CATEGORIES:Current Students
END:VEVENT
END:VCALENDAR