BEGIN:VCALENDAR
VERSION:2.0
METHOD:PUBLISH
PRODID:-//Missouri State University/Calendar of Events//EN
CALSCALE:GREGORIAN
X-WR-TIMEZONE:America/Chicago
BEGIN:VTIMEZONE
TZID:America/Chicago
BEGIN:DAYLIGHT
TZOFFSETFROM:-0600
TZOFFSETTO:-0500
DTSTART:20070311T020000
RRULE:FREQ=YEARLY;BYMONTH=3;BYDAY=2SU
TZNAME:CDT
END:DAYLIGHT
BEGIN:STANDARD
TZOFFSETFROM:-0500
TZOFFSETTO:-0600
DTSTART:20071104T020000
RRULE:FREQ=YEARLY;BYMONTH=11;BYDAY=1SU
TZNAME:CST
END:STANDARD
END:VTIMEZONE
BEGIN:VEVENT
UID:30adac94-575f-40b4-8f4e-25dd99690fd7.234248@calendar.missouristate.edu
CREATED:20240207T202854Z
LAST-MODIFIED:20240207T202854Z
LOCATION:Plaster Student Union\, Robert W. 314
SUMMARY:Vision Boards with International Programs
DESCRIPTION:Come eat pizza and create your own vision board for 2024 with 
 International Programs! Join us for an inspiring and interactive session 
 where you will have the opportunity to craft your own vision board - a to
 ol for visualizing your aspirations\, goals and anything you want to mani
 fest or achieve this year.
X-ALT-DESC;FMTTYPE=text/html:&lt;html&gt;&lt;head&gt;&lt;title&gt;&lt;/title&gt;&lt;/head&gt;&lt;body&gt;&lt;p&gt;Co
 me eat pizza and create your own vision board for 2024 with International
  Programs! Join us for an inspiring and interactive session where you wil
 l have the opportunity to craft your own vision board - a tool for visual
 izing your aspirations\, goals and anything you want to manifest or achie
 ve this year.&lt;/p&gt;&lt;/body&gt;&lt;/html&gt;
DTSTART;TZID=America/Chicago:20240215T150000
DTEND;TZID=America/Chicago:20240215T170000
SEQUENCE:0
URL:122995.png
CATEGORIES:Public,Current Students
END:VEVENT
END:VCALENDAR