BEGIN:VCALENDAR
VERSION:2.0
METHOD:PUBLISH
PRODID:-//Missouri State University/Calendar of Events//EN
CALSCALE:GREGORIAN
X-WR-TIMEZONE:America/Chicago
BEGIN:VTIMEZONE
TZID:America/Chicago
BEGIN:DAYLIGHT
TZOFFSETFROM:-0600
TZOFFSETTO:-0500
DTSTART:20070311T020000
RRULE:FREQ=YEARLY;BYMONTH=3;BYDAY=2SU
TZNAME:CDT
END:DAYLIGHT
BEGIN:STANDARD
TZOFFSETFROM:-0500
TZOFFSETTO:-0600
DTSTART:20071104T020000
RRULE:FREQ=YEARLY;BYMONTH=11;BYDAY=1SU
TZNAME:CST
END:STANDARD
END:VTIMEZONE
BEGIN:VEVENT
UID:5929f6ba-94c4-4a21-bbbf-fb6040bde172.234249@calendar.missouristate.edu
CREATED:20240213T224908Z
LAST-MODIFIED:20240213T224908Z
LOCATION:Meyer Library\, Duane G. 101
SUMMARY:Piracy: Then &amp; Now
DESCRIPTION:Please join Dr. John Chuchiak\, Distinguished Professor of His
 tory and the Director of the Honors College for Piracy: Then &amp; Now.\n\n\n
 Embark on a captivating voyage through time as we delve into the riveting
  history of piracy and its enduring relevance in today's world. Join us a
 s we uncover the fascinating stories of swashbuckling pirates\, their cun
 ning strategies\, and the impact they had on global trade and politics. D
 iscover how the legacy of piracy continues to shape modern maritime secur
 ity and international law. From the Golden Age of Piracy to contemporary 
 piracy hotspots\, this presentation will shed light on the lessons we can
  learn from the past to navigate the challenges of the present. Don't mis
 s this unique opportunity to explore the history of piracy and its profou
 nd implications for our world today.
X-ALT-DESC;FMTTYPE=text/html:&lt;html&gt;&lt;head&gt;&lt;title&gt;&lt;/title&gt;&lt;/head&gt;&lt;body&gt;&lt;p&gt;Pl
 ease join Dr. John Chuchiak\, Distinguished Professor of History and the 
 Director of the Honors College for Piracy: Then &amp;amp\; Now.&lt;/p&gt;\n&lt;p&gt;Embar
 k on a captivating voyage through time as we delve into the riveting hist
 ory of piracy and its enduring relevance in today's world. Join us as we 
 uncover the fascinating stories of swashbuckling pirates\, their cunning 
 strategies\, and the impact they had on global trade and politics. Discov
 er how the legacy of piracy continues to shape modern maritime security a
 nd international law. From the Golden Age of Piracy to contemporary pirac
 y hotspots\, this presentation will shed light on the lessons we can lear
 n from the past to navigate the challenges of the present. Don't miss thi
 s unique opportunity to explore the history of piracy and its profound im
 plications for our world today.&lt;/p&gt;&lt;/body&gt;&lt;/html&gt;
DTSTART;TZID=America/Chicago:20240226T170000
DTEND;TZID=America/Chicago:20240226T190000
SEQUENCE:0
URL:122996.png
CATEGORIES:Public,Alumni,Current Students,Faculty,Future Students
END:VEVENT
END:VCALENDAR