BEGIN:VCALENDAR
VERSION:2.0
METHOD:PUBLISH
PRODID:-//Missouri State University/Calendar of Events//EN
CALSCALE:GREGORIAN
X-WR-TIMEZONE:America/Chicago
BEGIN:VTIMEZONE
TZID:America/Chicago
BEGIN:DAYLIGHT
TZOFFSETFROM:-0600
TZOFFSETTO:-0500
DTSTART:20070311T020000
RRULE:FREQ=YEARLY;BYMONTH=3;BYDAY=2SU
TZNAME:CDT
END:DAYLIGHT
BEGIN:STANDARD
TZOFFSETFROM:-0500
TZOFFSETTO:-0600
DTSTART:20071104T020000
RRULE:FREQ=YEARLY;BYMONTH=11;BYDAY=1SU
TZNAME:CST
END:STANDARD
END:VTIMEZONE
BEGIN:VEVENT
UID:88092986-3838-4902-ae7d-e6a0a4e0161f.234265@calendar.missouristate.edu
CREATED:20240209T061513Z
LAST-MODIFIED:20240209T061513Z
LOCATION:Manhattan\, Kan.
SUMMARY:Missouri State University Women's Track &amp; Field at Ward Haylett In
 vitational
DESCRIPTION:Missouri State University Women's Track &amp; Field visits Ward Ha
 ylett Invitational
X-ALT-DESC;FMTTYPE=text/html:&lt;html&gt;&lt;head&gt;&lt;title&gt;&lt;/title&gt;&lt;/head&gt;&lt;body&gt;Misso
 uri State University Women's Track &amp; Field visits Ward Haylett Invitation
 al&lt;/body&gt;&lt;/html&gt;
DTSTART;TZID=America/Chicago:20240426T120000
DTEND;TZID=America/Chicago:20240426T150000
SEQUENCE:3
URL:http://missouristatebears.com/index.aspx?path=wtrack
CATEGORIES:Current Students,Future Students,Parents and Family,Alumni,
 Faculty,Staff,Community,Visitors,Athletics
END:VEVENT
END:VCALENDAR