BEGIN:VCALENDAR
VERSION:2.0
METHOD:PUBLISH
PRODID:-//Missouri State University/Calendar of Events//EN
CALSCALE:GREGORIAN
X-WR-TIMEZONE:America/Chicago
BEGIN:VTIMEZONE
TZID:America/Chicago
BEGIN:DAYLIGHT
TZOFFSETFROM:-0600
TZOFFSETTO:-0500
DTSTART:20070311T020000
RRULE:FREQ=YEARLY;BYMONTH=3;BYDAY=2SU
TZNAME:CDT
END:DAYLIGHT
BEGIN:STANDARD
TZOFFSETFROM:-0500
TZOFFSETTO:-0600
DTSTART:20071104T020000
RRULE:FREQ=YEARLY;BYMONTH=11;BYDAY=1SU
TZNAME:CST
END:STANDARD
END:VTIMEZONE
BEGIN:VEVENT
UID:2ca0896d-a94a-4863-b219-caffb202343c.234268@calendar.missouristate.edu
CREATED:20240209T221102Z
LAST-MODIFIED:20240209T221102Z
LOCATION:Glass Hall\, David D. Room 276 - Career Center location (2nd floo
 r atrium)
SUMMARY:Business Resumé Café Event
DESCRIPTION:MSU students and alumni can come to Resumé Café for quick drop
 -in resumé feedback\, free coffee and sweet treats.\n\n\nJoin us to make 
 sure your resumé is ready for the upcoming Construction and Engineering C
 areer Fair on the 21st and the all-majors Job &amp; Internship Career Fair on
  the 28th.
X-ALT-DESC;FMTTYPE=text/html:&lt;html&gt;&lt;head&gt;&lt;title&gt;&lt;/title&gt;&lt;/head&gt;&lt;body&gt;&lt;p&gt;MS
 U students and alumni can come to Resumé Café for quick drop-in resumé fe
 edback\, free coffee and sweet treats.&lt;/p&gt;\n&lt;p&gt;Join us to make sure your 
 resumé is ready for the upcoming Construction and Engineering Career Fair
  on the 21st and the all-majors Job &amp;amp\; Internship Career Fair on the 
 28th.&lt;/p&gt;&lt;/body&gt;&lt;/html&gt;
DTSTART;TZID=America/Chicago:20240220T100000
DTEND;TZID=America/Chicago:20240220T150000
SEQUENCE:0
URL:https://missouristate.joinhandshake.com/events/1458242/share_preview
CATEGORIES:Alumni,Current Students
END:VEVENT
END:VCALENDAR