BEGIN:VCALENDAR
VERSION:2.0
METHOD:PUBLISH
PRODID:-//Missouri State University/Calendar of Events//EN
CALSCALE:GREGORIAN
X-WR-TIMEZONE:America/Chicago
BEGIN:VTIMEZONE
TZID:America/Chicago
BEGIN:DAYLIGHT
TZOFFSETFROM:-0600
TZOFFSETTO:-0500
DTSTART:20070311T020000
RRULE:FREQ=YEARLY;BYMONTH=3;BYDAY=2SU
TZNAME:CDT
END:DAYLIGHT
BEGIN:STANDARD
TZOFFSETFROM:-0500
TZOFFSETTO:-0600
DTSTART:20071104T020000
RRULE:FREQ=YEARLY;BYMONTH=11;BYDAY=1SU
TZNAME:CST
END:STANDARD
END:VTIMEZONE
BEGIN:VEVENT
UID:98561891-e75e-46b4-86c1-ba269b0b45b2.234270@calendar.missouristate.edu
CREATED:20240212T201208Z
LAST-MODIFIED:20240212T201208Z
LOCATION:Plaster Student Union\, Robert W. PSU 317A
SUMMARY:Education Abroad Faculty-Directed Program Planning Workshop
DESCRIPTION:MSU faculty\, please join the Education Abroad team for a work
 shop on developing one- to eight-week programs. Topics include the first 
 three phases of directing a faculty-directed program: Plan\, Academic Pro
 posal and Budget\, and Recruit. Refreshments will be provided.\n\n\nPleas
 e RSVP by April 11. \n\n\nWe look forward to helping you plan a high impa
 ct learning experience for MSU students!
X-ALT-DESC;FMTTYPE=text/html:&lt;html&gt;&lt;head&gt;&lt;title&gt;&lt;/title&gt;&lt;/head&gt;&lt;body&gt;&lt;p&gt;MS
 U faculty\, please join the Education Abroad team for a workshop on devel
 oping one- to eight-week programs. Topics include the first three phases 
 of directing a faculty-directed program: Plan\, Academic Proposal and Bud
 get\, and Recruit. Refreshments will be provided.&lt;/p&gt;\n&lt;p&gt;&lt;a href="https:
 //missouristate.co1.qualtrics.com/jfe/form/SV_afoVaFtQNlPWO6a"&gt;Please RSV
 P by April 11&lt;/a&gt;.&amp;nbsp\;&lt;/p&gt;\n&lt;p&gt;We look forward to helping you plan a h
 igh impact learning experience for MSU students!&lt;/p&gt;&lt;/body&gt;&lt;/html&gt;
DTSTART;TZID=America/Chicago:20240417T150000
DTEND;TZID=America/Chicago:20240417T163000
SEQUENCE:0
URL:https://international.missouristate.edu/educationabroad/
CATEGORIES:Faculty,Staff
END:VEVENT
END:VCALENDAR