BEGIN:VCALENDAR
VERSION:2.0
METHOD:PUBLISH
PRODID:-//Missouri State University/Calendar of Events//EN
CALSCALE:GREGORIAN
X-WR-TIMEZONE:America/Chicago
BEGIN:VTIMEZONE
TZID:America/Chicago
BEGIN:DAYLIGHT
TZOFFSETFROM:-0600
TZOFFSETTO:-0500
DTSTART:20070311T020000
RRULE:FREQ=YEARLY;BYMONTH=3;BYDAY=2SU
TZNAME:CDT
END:DAYLIGHT
BEGIN:STANDARD
TZOFFSETFROM:-0500
TZOFFSETTO:-0600
DTSTART:20071104T020000
RRULE:FREQ=YEARLY;BYMONTH=11;BYDAY=1SU
TZNAME:CST
END:STANDARD
END:VTIMEZONE
BEGIN:VEVENT
UID:00000000-0000-0000-0000-000000000000.234284@calendar.missouristate.edu
CREATED:20240215T184540Z
LAST-MODIFIED:20240215T184540Z
LOCATION:To Be Determined
SUMMARY:St. Louis Alumni Chapter: Bear Pride Sign Workshop
DESCRIPTION:Gather with fellow alumni and express our pride in our alma ma
 ter through creativity and camaraderie! Register now and plan to craft pe
 rsonalized door or yard sign.
X-ALT-DESC;FMTTYPE=text/html:&lt;html&gt;&lt;head&gt;&lt;title&gt;&lt;/title&gt;&lt;/head&gt;&lt;body&gt;Gathe
 r with fellow alumni and express our pride in our alma mater through crea
 tivity and camaraderie! Register now and plan to craft personalized door 
 or yard sign.&lt;/body&gt;&lt;/html&gt;
DTSTART;TZID=America/Chicago:20240329T174500
DTEND;TZID=America/Chicago:20240329T193000
SEQUENCE:0
URL:https://missouristate.imodules.com?sid=1691&amp;gid=2&amp;pgid=3602&amp;cid=6360&amp;e
 cid=6360&amp;ciid=22305&amp;crid=0
CATEGORIES:Public,Alumni,Parents and Family,Visitors
END:VEVENT
END:VCALENDAR