BEGIN:VCALENDAR
VERSION:2.0
METHOD:PUBLISH
PRODID:-//Missouri State University/Calendar of Events//EN
CALSCALE:GREGORIAN
X-WR-TIMEZONE:America/Chicago
BEGIN:VTIMEZONE
TZID:America/Chicago
BEGIN:DAYLIGHT
TZOFFSETFROM:-0600
TZOFFSETTO:-0500
DTSTART:20070311T020000
RRULE:FREQ=YEARLY;BYMONTH=3;BYDAY=2SU
TZNAME:CDT
END:DAYLIGHT
BEGIN:STANDARD
TZOFFSETFROM:-0500
TZOFFSETTO:-0600
DTSTART:20071104T020000
RRULE:FREQ=YEARLY;BYMONTH=11;BYDAY=1SU
TZNAME:CST
END:STANDARD
END:VTIMEZONE
BEGIN:VEVENT
UID:8959cc27-2364-465f-baad-c0821beee6c4.234285@calendar.missouristate.edu
CREATED:20240215T204844Z
LAST-MODIFIED:20240215T204844Z
LOCATION:Plaster Student Union\, Robert W. PSU 101 - MRC
SUMMARY:Disability Awareness Panel
DESCRIPTION:Listen to our panelists discuss their lived experience of bein
 g disabled on Zero Discrimination Day. Faculty and Staff are welcome to j
 oin.
X-ALT-DESC;FMTTYPE=text/html:&lt;html&gt;&lt;head&gt;&lt;title&gt;&lt;/title&gt;&lt;/head&gt;&lt;body&gt;&lt;p&gt;Li
 sten to our panelists discuss their lived experience of being disabled on
  Zero Discrimination Day. Faculty and Staff are welcome to join.&lt;/p&gt;&lt;/bod
 y&gt;&lt;/html&gt;
DTSTART;TZID=America/Chicago:20240301T130000
DTEND;TZID=America/Chicago:20240301T140000
SEQUENCE:0
URL:
CATEGORIES:Current Students,Faculty,Staff
END:VEVENT
END:VCALENDAR