BEGIN:VCALENDAR
VERSION:2.0
METHOD:PUBLISH
PRODID:-//Missouri State University/Calendar of Events//EN
CALSCALE:GREGORIAN
X-WR-TIMEZONE:America/Chicago
BEGIN:VTIMEZONE
TZID:America/Chicago
BEGIN:DAYLIGHT
TZOFFSETFROM:-0600
TZOFFSETTO:-0500
DTSTART:20070311T020000
RRULE:FREQ=YEARLY;BYMONTH=3;BYDAY=2SU
TZNAME:CDT
END:DAYLIGHT
BEGIN:STANDARD
TZOFFSETFROM:-0500
TZOFFSETTO:-0600
DTSTART:20071104T020000
RRULE:FREQ=YEARLY;BYMONTH=11;BYDAY=1SU
TZNAME:CST
END:STANDARD
END:VTIMEZONE
BEGIN:VEVENT
UID:8d80e388-81a6-4820-8f7b-c32668c0e953.234288@calendar.missouristate.edu
CREATED:20240311T131846Z
LAST-MODIFIED:20240311T131846Z
LOCATION:Plaster Student Union\, Robert W. PSU 101 - MRC
SUMMARY:Finding Peace Circle
DESCRIPTION:Join us with MSU's Sister Circle for journaling and meditation
 . Supplies will be provided. The event will entail sharing your personal 
 journey while crerating collages. \n\n\n\n\n\nDisclaimer: \n\n\nEvent typ
 e: It will be a more intimate event. Participation will be needed as this
  is a hands-on event. You can experience light chatter and work with craf
 ts. When having events in the MRC\, we expect no more than 30 participant
 s. The space is welcoming\, and we have a room in case anyone experiences
  sensory issues.
X-ALT-DESC;FMTTYPE=text/html:&lt;html&gt;&lt;head&gt;&lt;title&gt;&lt;/title&gt;&lt;/head&gt;&lt;body&gt;&lt;p&gt;Jo
 in us with MSU's Sister Circle for journaling and meditation. Supplies wi
 ll be provided. The event will entail sharing your personal journey while
  crerating collages.&amp;nbsp\;&lt;/p&gt;\n&lt;p&gt;&lt;/p&gt;\n&lt;p&gt;&lt;b&gt;Disclaimer: &lt;/b&gt;&lt;/p&gt;\n&lt;p&gt;
 Event type: It will be a more intimate event. Participation will be neede
 d as this is a hands-on event. You can experience light chatter and work 
 with crafts. When having events in the MRC\, we expect no more than 30 pa
 rticipants. The space is welcoming\, and we have a room in case anyone ex
 periences sensory issues.&lt;/p&gt;&lt;/body&gt;&lt;/html&gt;
DTSTART;TZID=America/Chicago:20240319T153000
DTEND;TZID=America/Chicago:20240319T170000
SEQUENCE:0
URL:
CATEGORIES:Current Students
END:VEVENT
END:VCALENDAR