BEGIN:VCALENDAR
VERSION:2.0
METHOD:PUBLISH
PRODID:-//Missouri State University/Calendar of Events//EN
CALSCALE:GREGORIAN
X-WR-TIMEZONE:America/Chicago
BEGIN:VTIMEZONE
TZID:America/Chicago
BEGIN:DAYLIGHT
TZOFFSETFROM:-0600
TZOFFSETTO:-0500
DTSTART:20070311T020000
RRULE:FREQ=YEARLY;BYMONTH=3;BYDAY=2SU
TZNAME:CDT
END:DAYLIGHT
BEGIN:STANDARD
TZOFFSETFROM:-0500
TZOFFSETTO:-0600
DTSTART:20071104T020000
RRULE:FREQ=YEARLY;BYMONTH=11;BYDAY=1SU
TZNAME:CST
END:STANDARD
END:VTIMEZONE
BEGIN:VEVENT
UID:77237dbd-fecf-4d3c-880c-5b726190aa2e.234289@calendar.missouristate.edu
CREATED:20240311T131627Z
LAST-MODIFIED:20240311T131627Z
LOCATION:Plaster Student Union\, Robert W. PSU 101 - MRC
SUMMARY:Game Night with the MRC
DESCRIPTION:Come play board and card games and enjoy our free ice cream ba
 r!\n\n\n\n\n\nEvent type: It will be a more intimate event. Participation
  will be needed as this is a hands-on event. You can experience a louder 
 chatter and tons of games. There might be some music in the background\, 
 too. When having events in the MRC\, we expect no more than 30 participan
 ts. The space is welcoming\, and we have a room in case anyone experience
 s sensory issues.
X-ALT-DESC;FMTTYPE=text/html:&lt;html&gt;&lt;head&gt;&lt;title&gt;&lt;/title&gt;&lt;/head&gt;&lt;body&gt;&lt;p&gt;Co
 me play board and card games and enjoy our free ice cream bar!&lt;/p&gt;\n&lt;p&gt;&lt;/
 p&gt;\n&lt;p&gt;Event type: It will be a more intimate event. Participation will b
 e needed as this is a hands-on event. You can experience a louder chatter
  and tons of games. There might be some music in the background\, too. Wh
 en having events in the MRC\, we expect no more than 30 participants. The
  space is welcoming\, and we have a room in case anyone experiences senso
 ry issues.&lt;/p&gt;&lt;/body&gt;&lt;/html&gt;
DTSTART;TZID=America/Chicago:20240320T180000
DTEND;TZID=America/Chicago:20240320T200000
SEQUENCE:0
URL:
CATEGORIES:Current Students
END:VEVENT
END:VCALENDAR