BEGIN:VCALENDAR
VERSION:2.0
METHOD:PUBLISH
PRODID:-//Missouri State University/Calendar of Events//EN
CALSCALE:GREGORIAN
X-WR-TIMEZONE:America/Chicago
BEGIN:VTIMEZONE
TZID:America/Chicago
BEGIN:DAYLIGHT
TZOFFSETFROM:-0600
TZOFFSETTO:-0500
DTSTART:20070311T020000
RRULE:FREQ=YEARLY;BYMONTH=3;BYDAY=2SU
TZNAME:CDT
END:DAYLIGHT
BEGIN:STANDARD
TZOFFSETFROM:-0500
TZOFFSETTO:-0600
DTSTART:20071104T020000
RRULE:FREQ=YEARLY;BYMONTH=11;BYDAY=1SU
TZNAME:CST
END:STANDARD
END:VTIMEZONE
BEGIN:VEVENT
UID:f00e0458-4162-42a3-8121-bbbed97e6679.234290@calendar.missouristate.edu
CREATED:20240311T131806Z
LAST-MODIFIED:20240311T131806Z
LOCATION:Davis-Harrington Welcome Center
SUMMARY:Brunch and Bonding Networking Event 
DESCRIPTION:A free brunch will be offered and we will hear from leaders in
  our community about what they do for the Springfield\, MO\, area. \n\n\n
 \n\n\nEvent type: It will be a bigger event. When having events in bigger
  spaces on campus\, expect a louder event with many people. There will be
  presenters and networkng opportunities. 
X-ALT-DESC;FMTTYPE=text/html:&lt;html&gt;&lt;head&gt;&lt;title&gt;&lt;/title&gt;&lt;/head&gt;&lt;body&gt;&lt;p&gt;A 
 free brunch will be offered and we will hear from leaders in our communit
 y about what they do for the Springfield\, MO\, area.&amp;nbsp\;&lt;/p&gt;\n&lt;p&gt;&lt;/p&gt;
 \n&lt;p&gt;Event type: It will be a bigger event. When having events in bigger 
 spaces on campus\, expect a louder event with many people. There will be 
 presenters and networkng opportunities.&amp;nbsp\;&lt;/p&gt;&lt;/body&gt;&lt;/html&gt;
DTSTART;TZID=America/Chicago:20240324T110000
DTEND;TZID=America/Chicago:20240324T130000
SEQUENCE:1
URL:
CATEGORIES:Public,Alumni,Current Students,Faculty,Staff
END:VEVENT
END:VCALENDAR