BEGIN:VCALENDAR
VERSION:2.0
METHOD:PUBLISH
PRODID:-//Missouri State University/Calendar of Events//EN
CALSCALE:GREGORIAN
X-WR-TIMEZONE:America/Chicago
BEGIN:VTIMEZONE
TZID:America/Chicago
BEGIN:DAYLIGHT
TZOFFSETFROM:-0600
TZOFFSETTO:-0500
DTSTART:20070311T020000
RRULE:FREQ=YEARLY;BYMONTH=3;BYDAY=2SU
TZNAME:CDT
END:DAYLIGHT
BEGIN:STANDARD
TZOFFSETFROM:-0500
TZOFFSETTO:-0600
DTSTART:20071104T020000
RRULE:FREQ=YEARLY;BYMONTH=11;BYDAY=1SU
TZNAME:CST
END:STANDARD
END:VTIMEZONE
BEGIN:VEVENT
UID:e0afd064-797e-4479-a6b4-b78890e667dc.234292@calendar.missouristate.edu
CREATED:20240311T132248Z
LAST-MODIFIED:20240311T132248Z
LOCATION:Plaster Student Union\, Robert W. PSU 101 - MRC
SUMMARY:Cha-TEA Time
DESCRIPTION:Partnered with MSU's URSI Latinx\, Mexican hot chocolate and t
 ea will be offered. There will be light sweet snacks as well. \n\n\n\n\n\
 nEvent type: It will be a bigger event. ChaTea is super popular\, and it 
 can get a bit loud. Many people walking in and out\, chatter in the MRC\,
  and many opportunities to ask questions and meet new friends. Perfect ev
 ent if you are a bit shy and wish to quickly get to know a few Bears on c
 ampus. 
X-ALT-DESC;FMTTYPE=text/html:&lt;html&gt;&lt;head&gt;&lt;title&gt;&lt;/title&gt;&lt;/head&gt;&lt;body&gt;&lt;p&gt;Pa
 rtnered with MSU's URSI Latinx\, Mexican hot chocolate and tea will be of
 fered. There will be light sweet snacks as well.&amp;nbsp\;&lt;/p&gt;\n&lt;p&gt;&lt;/p&gt;\n&lt;p&gt;
 &lt;strong&gt;Event type&lt;/strong&gt;: It will be a bigger event. ChaTea is super p
 opular\, and it can get a bit loud. Many people walking in and out\, chat
 ter in the MRC\, and many opportunities to ask questions and meet new fri
 ends. Perfect event if you are a bit shy and wish to quickly get to know 
 a few Bears on campus.&amp;nbsp\;&lt;/p&gt;&lt;/body&gt;&lt;/html&gt;
DTSTART;TZID=America/Chicago:20240327T140000
DTEND;TZID=America/Chicago:20240327T160000
SEQUENCE:0
URL:https://calendar.missouristate.edu/viewevent.aspx?eventid=123031&amp;occur
 renceid=234292
CATEGORIES:Current Students
END:VEVENT
END:VCALENDAR