BEGIN:VCALENDAR
VERSION:2.0
METHOD:PUBLISH
PRODID:-//Missouri State University/Calendar of Events//EN
CALSCALE:GREGORIAN
X-WR-TIMEZONE:America/Chicago
BEGIN:VTIMEZONE
TZID:America/Chicago
BEGIN:DAYLIGHT
TZOFFSETFROM:-0600
TZOFFSETTO:-0500
DTSTART:20070311T020000
RRULE:FREQ=YEARLY;BYMONTH=3;BYDAY=2SU
TZNAME:CDT
END:DAYLIGHT
BEGIN:STANDARD
TZOFFSETFROM:-0500
TZOFFSETTO:-0600
DTSTART:20071104T020000
RRULE:FREQ=YEARLY;BYMONTH=11;BYDAY=1SU
TZNAME:CST
END:STANDARD
END:VTIMEZONE
BEGIN:VEVENT
UID:b7ea6a88-f94b-430e-abc4-9686b10f3ed1.234293@calendar.missouristate.edu
CREATED:20240311T131304Z
LAST-MODIFIED:20240311T131304Z
LOCATION:Plaster Student Union\, Robert W. PSU 101 - MRC
SUMMARY:Aromantic &amp; Asexual Panel
DESCRIPTION:We are going to hear from several amazing students who will sh
 are their experience of being aromantic or asexual. These are lived exper
 iences and we hope that all who attends is respectful and engaged. \n\n\n
 \n\n\nDisclaimer: \n\n\nEvent type: It will be a more intimate event. Whe
 n having events in the MRC\, we expect no more than 30 participants. The 
 space is welcoming\, and we have a room in case anyone experiences sensor
 y issues.
X-ALT-DESC;FMTTYPE=text/html:&lt;html&gt;&lt;head&gt;&lt;title&gt;&lt;/title&gt;&lt;/head&gt;&lt;body&gt;&lt;p&gt;We
  are going to hear from several amazing students who will share their exp
 erience of being aromantic or asexual. These are lived experiences and we
  hope that all who attends is respectful and engaged.&amp;nbsp\;&lt;/p&gt;\n&lt;p&gt;&lt;/p&gt;
 \n&lt;p&gt;&lt;b&gt;Disclaimer: &lt;/b&gt;&lt;/p&gt;\n&lt;p&gt;Event type: It will be a more intimate e
 vent. When having events in the MRC\, we expect no more than 30 participa
 nts. The space is welcoming\, and we have a room in case anyone experienc
 es sensory issues. &lt;/p&gt;&lt;/body&gt;&lt;/html&gt;
DTSTART;TZID=America/Chicago:20240404T170000
DTEND;TZID=America/Chicago:20240404T183000
SEQUENCE:0
URL:https://calendar.missouristate.edu/viewevent.aspx?eventid=123032&amp;occur
 renceid=234293
CATEGORIES:Current Students
END:VEVENT
END:VCALENDAR