BEGIN:VCALENDAR
VERSION:2.0
METHOD:PUBLISH
PRODID:-//Missouri State University/Calendar of Events//EN
CALSCALE:GREGORIAN
X-WR-TIMEZONE:America/Chicago
BEGIN:VTIMEZONE
TZID:America/Chicago
BEGIN:DAYLIGHT
TZOFFSETFROM:-0600
TZOFFSETTO:-0500
DTSTART:20070311T020000
RRULE:FREQ=YEARLY;BYMONTH=3;BYDAY=2SU
TZNAME:CDT
END:DAYLIGHT
BEGIN:STANDARD
TZOFFSETFROM:-0500
TZOFFSETTO:-0600
DTSTART:20071104T020000
RRULE:FREQ=YEARLY;BYMONTH=11;BYDAY=1SU
TZNAME:CST
END:STANDARD
END:VTIMEZONE
BEGIN:VEVENT
UID:3336986c-aa0b-442a-a8ec-f55648b4e099.234294@calendar.missouristate.edu
CREATED:20240311T132442Z
LAST-MODIFIED:20240311T132442Z
LOCATION:Plaster Student Union\, Robert W. PSU Theatre
SUMMARY:Flow of the Arts 
DESCRIPTION:Come enjoy a fashion show and a rap showcase. We are excited t
 o see many of you and even more excited to hear from our amazing artists 
 who will present diffderent forms of art. \n\n\nEvent type:It will be a b
 igger event. When having events in bigger spaces on campus\, expect a lou
 der event with many people.  It will be on the louder side and dark-ish i
 n our theatre. There will be music and artificial lighting. 
X-ALT-DESC;FMTTYPE=text/html:&lt;html&gt;&lt;head&gt;&lt;title&gt;&lt;/title&gt;&lt;/head&gt;&lt;body&gt;&lt;p&gt;Co
 me enjoy a fashion show and a rap showcase. We are excited to see many of
  you and even more excited to hear from our amazing artists who will pres
 ent diffderent forms of art.&amp;nbsp\;&lt;/p&gt;\n&lt;p&gt;&lt;strong&gt;Event type&lt;/strong&gt;:&lt;
 span&gt;It will be a bigger event. When having events in bigger spaces on ca
 mpus\, expect a louder event with many people.&amp;nbsp\;&lt;/span&gt;&amp;nbsp\;It wil
 l be on the louder side and dark-ish in our theatre. There will be music 
 and artificial lighting.&amp;nbsp\;&lt;/p&gt;&lt;/body&gt;&lt;/html&gt;
DTSTART;TZID=America/Chicago:20240412T183000
DTEND;TZID=America/Chicago:20240412T220000
SEQUENCE:0
URL:https://calendar.missouristate.edu/viewevent.aspx?eventid=123033&amp;occur
 renceid=234294
CATEGORIES:Public,Alumni,Current Students,Faculty,Staff
END:VEVENT
END:VCALENDAR