BEGIN:VCALENDAR
VERSION:2.0
METHOD:PUBLISH
PRODID:-//Missouri State University/Calendar of Events//EN
CALSCALE:GREGORIAN
X-WR-TIMEZONE:America/Chicago
BEGIN:VTIMEZONE
TZID:America/Chicago
BEGIN:DAYLIGHT
TZOFFSETFROM:-0600
TZOFFSETTO:-0500
DTSTART:20070311T020000
RRULE:FREQ=YEARLY;BYMONTH=3;BYDAY=2SU
TZNAME:CDT
END:DAYLIGHT
BEGIN:STANDARD
TZOFFSETFROM:-0500
TZOFFSETTO:-0600
DTSTART:20071104T020000
RRULE:FREQ=YEARLY;BYMONTH=11;BYDAY=1SU
TZNAME:CST
END:STANDARD
END:VTIMEZONE
BEGIN:VEVENT
UID:cf0d9c52-d555-4e94-99b9-b37633d28c58.234295@calendar.missouristate.edu
CREATED:20240312T193023Z
LAST-MODIFIED:20240312T193023Z
LOCATION:Plaster Student Union\, Robert W. PSU Theater
SUMMARY:AAPI Heritage Month Speaker with SAC - Lela Lee
DESCRIPTION:Hear from our Asian American and Pacific Islander (AAPI) Herit
 age Month speaker\, Lela Lee. She is a cartoonist\, writer and actress\, 
 whose experiences as a woman of color and as a child of immigrants in Ame
 rica intersect to create an identity that is layered by race\, gender\, c
 ulture and traditions\, old and new. You might know her through the famou
 s "Angry Little Girls" comic strip. \n\n\nEvent type: It will be a bigger
  event. When having events in bigger spaces on campus\, expect a louder e
 vent with many people. There will be presenters and an opportunity to mee
 t our main speaker. 
X-ALT-DESC;FMTTYPE=text/html:&lt;html&gt;&lt;head&gt;&lt;title&gt;&lt;/title&gt;&lt;/head&gt;&lt;body&gt;&lt;p&gt;He
 ar from our Asian American and Pacific Islander (AAPI) Heritage Month spe
 aker\, Lela Lee. She is a cartoonist\, writer and actress\, whose experie
 nces as a woman of color and as a child of immigrants in America intersec
 t to create an identity that is layered by race\, gender\, culture and tr
 aditions\, old and new. You might know her through the famous "Angry Litt
 le Girls" comic strip. &lt;/p&gt;\n&lt;p&gt;&lt;strong&gt;Event type&lt;/strong&gt;: It will be a
  bigger event. When having events in bigger spaces on campus\, expect a l
 ouder event with many people. There will be presenters&amp;nbsp\;and an oppor
 tunity to meet our main speaker.&amp;nbsp\;&lt;/p&gt;&lt;/body&gt;&lt;/html&gt;
DTSTART;TZID=America/Chicago:20240416T190000
DTEND;TZID=America/Chicago:20240416T200000
SEQUENCE:1
URL:
CATEGORIES:Public,Alumni,Current Students,Faculty,Future Students,Staff
END:VEVENT
END:VCALENDAR