BEGIN:VCALENDAR
VERSION:2.0
METHOD:PUBLISH
PRODID:-//Missouri State University/Calendar of Events//EN
CALSCALE:GREGORIAN
X-WR-TIMEZONE:America/Chicago
BEGIN:VTIMEZONE
TZID:America/Chicago
BEGIN:DAYLIGHT
TZOFFSETFROM:-0600
TZOFFSETTO:-0500
DTSTART:20070311T020000
RRULE:FREQ=YEARLY;BYMONTH=3;BYDAY=2SU
TZNAME:CDT
END:DAYLIGHT
BEGIN:STANDARD
TZOFFSETFROM:-0500
TZOFFSETTO:-0600
DTSTART:20071104T020000
RRULE:FREQ=YEARLY;BYMONTH=11;BYDAY=1SU
TZNAME:CST
END:STANDARD
END:VTIMEZONE
BEGIN:VEVENT
UID:78b4d154-401a-4a28-9c9a-0d3e26596dd7.234296@calendar.missouristate.edu
CREATED:20240311T132752Z
LAST-MODIFIED:20240311T132752Z
LOCATION:Plaster Student Union\, Robert W. PSU 101 - MRC
SUMMARY:Cha-TEA with the MRC
DESCRIPTION:Travel the world by tasting tea from Asia. There will be sweet
  snacks provided. \n\n\n\n\n\nEvent type: It will be a bigger event. ChaT
 ea is super popular and it can get a bit loud. Many people walking in and
  out\, chatter in the MRC\, and many opportunities to ask questions and m
 eet new friends. Perfect event if you are a bit shy and wish to quickly g
 et to know a few Bears on campus
X-ALT-DESC;FMTTYPE=text/html:&lt;html&gt;&lt;head&gt;&lt;title&gt;&lt;/title&gt;&lt;/head&gt;&lt;body&gt;&lt;p&gt;Tr
 avel the world by tasting tea from Asia. There will be sweet snacks provi
 ded.&amp;nbsp\;&lt;/p&gt;\n&lt;p&gt;&lt;/p&gt;\n&lt;p&gt;&lt;span&gt;Event type: It will be a bigger event.
  ChaTea is super popular and it can get a bit loud. Many people walking i
 n and out\, chatter in the MRC\, and many opportunities to ask questions 
 and meet new friends. Perfect event if you are a bit shy and wish to quic
 kly get to know a few Bears on campus&lt;/span&gt;&lt;/p&gt;&lt;/body&gt;&lt;/html&gt;
DTSTART;TZID=America/Chicago:20240417T140000
DTEND;TZID=America/Chicago:20240417T160000
SEQUENCE:0
URL:https://calendar.missouristate.edu/viewevent.aspx?eventid=123035&amp;occur
 renceid=234296
CATEGORIES:Current Students
END:VEVENT
END:VCALENDAR