BEGIN:VCALENDAR
VERSION:2.0
METHOD:PUBLISH
PRODID:-//Missouri State University/Calendar of Events//EN
CALSCALE:GREGORIAN
X-WR-TIMEZONE:America/Chicago
BEGIN:VTIMEZONE
TZID:America/Chicago
BEGIN:DAYLIGHT
TZOFFSETFROM:-0600
TZOFFSETTO:-0500
DTSTART:20070311T020000
RRULE:FREQ=YEARLY;BYMONTH=3;BYDAY=2SU
TZNAME:CDT
END:DAYLIGHT
BEGIN:STANDARD
TZOFFSETFROM:-0500
TZOFFSETTO:-0600
DTSTART:20071104T020000
RRULE:FREQ=YEARLY;BYMONTH=11;BYDAY=1SU
TZNAME:CST
END:STANDARD
END:VTIMEZONE
BEGIN:VEVENT
UID:e721fa25-ccca-42e3-9199-51e5f8cdf6b9.234297@calendar.missouristate.edu
CREATED:20240311T132953Z
LAST-MODIFIED:20240311T132953Z
LOCATION:Plaster Student Union\, Robert W. PSU 101 - MRC
SUMMARY:Tour of Asia
DESCRIPTION:Join us for an evening filled with new experiences\, authentic
  asian snacks\, and amazing student organizations. You will be able to le
 arn about Asian culture by learning new information and trying new food. 
 \n\n\n\n\n\nEvent type: It will be a more intimate event. You can experie
 nce light chatter and work with crafts. When having events in the MRC\, w
 e expect no more than 30 participants at one time. This will be come-and-
 go type of an event. The space is welcoming\, and we have a room in case 
 anyone experiences sensory issues.
X-ALT-DESC;FMTTYPE=text/html:&lt;html&gt;&lt;head&gt;&lt;title&gt;&lt;/title&gt;&lt;/head&gt;&lt;body&gt;&lt;p&gt;Jo
 in us for an evening filled with new experiences\, authentic asian snacks
 \, and amazing student organizations. You will be able to learn about Asi
 an culture by learning new information and trying new food.&amp;nbsp\;&lt;/p&gt;\n&lt;
 p&gt;&lt;/p&gt;\n&lt;p&gt;Event type: It will be a more intimate event. You can experien
 ce light chatter and work with crafts. When having events in the MRC\, we
  expect no more than 30 participants at one time. This will be come-and-g
 o type of an event. The space is welcoming\, and we have a room in case a
 nyone experiences sensory issues.&lt;/p&gt;&lt;/body&gt;&lt;/html&gt;
DTSTART;TZID=America/Chicago:20240425T180000
DTEND;TZID=America/Chicago:20240425T200000
SEQUENCE:0
URL:https://calendar.missouristate.edu/viewevent.aspx?eventid=123036&amp;occur
 renceid=234297
CATEGORIES:Current Students
END:VEVENT
END:VCALENDAR