BEGIN:VCALENDAR
VERSION:2.0
METHOD:PUBLISH
PRODID:-//Missouri State University/Calendar of Events//EN
CALSCALE:GREGORIAN
X-WR-TIMEZONE:America/Chicago
BEGIN:VTIMEZONE
TZID:America/Chicago
BEGIN:DAYLIGHT
TZOFFSETFROM:-0600
TZOFFSETTO:-0500
DTSTART:20070311T020000
RRULE:FREQ=YEARLY;BYMONTH=3;BYDAY=2SU
TZNAME:CDT
END:DAYLIGHT
BEGIN:STANDARD
TZOFFSETFROM:-0500
TZOFFSETTO:-0600
DTSTART:20071104T020000
RRULE:FREQ=YEARLY;BYMONTH=11;BYDAY=1SU
TZNAME:CST
END:STANDARD
END:VTIMEZONE
BEGIN:VEVENT
UID:8dbcc22f-ded9-49f7-ae4d-864d5d0040a5.234298@calendar.missouristate.edu
CREATED:20240311T133045Z
LAST-MODIFIED:20240311T133045Z
LOCATION:Plaster Student Union\, Robert W. PSU 101 - MRC
SUMMARY:Lesbian Visibility Day Art &amp; Archives MRC
DESCRIPTION:Celebrate the inclusiveness through art and historty. Visit th
 e MRC and get exposed to archival data. \n\n\n\n\n\nEvent type: This is a
  pssive event\, which means it is come-and-go all day long. It will be a 
 more intimate event. When having events in the MRC\, we expect no more th
 an 30 participants at one time. The space is welcoming\, and we have a ro
 om in case anyone experiences sensory issues.
X-ALT-DESC;FMTTYPE=text/html:&lt;html&gt;&lt;head&gt;&lt;title&gt;&lt;/title&gt;&lt;/head&gt;&lt;body&gt;&lt;p&gt;Ce
 lebrate the inclusiveness through art and historty. Visit the MRC and get
  exposed to archival data.&amp;nbsp\;&lt;/p&gt;\n&lt;p&gt;&lt;/p&gt;\n&lt;p&gt;&lt;strong&gt;Event type&lt;/st
 rong&gt;: This is a pssive event\, which means it is come-and-go all day lon
 g. It will be a more intimate event. When having events in the MRC\, we e
 xpect no more than 30 participants at one time. The space is welcoming\, 
 and we have a room in case anyone experiences sensory issues. &lt;/p&gt;&lt;/body&gt;
 &lt;/html&gt;
DTSTART;VALUE=DATE:20240426
DTEND;VALUE=DATE:20240427
SEQUENCE:0
URL:https://calendar.missouristate.edu/viewevent.aspx?eventid=123037&amp;occur
 renceid=234298
CATEGORIES:Current Students,Faculty,Staff
END:VEVENT
END:VCALENDAR