BEGIN:VCALENDAR
VERSION:2.0
METHOD:PUBLISH
PRODID:-//Missouri State University/Calendar of Events//EN
CALSCALE:GREGORIAN
X-WR-TIMEZONE:America/Chicago
BEGIN:VTIMEZONE
TZID:America/Chicago
BEGIN:DAYLIGHT
TZOFFSETFROM:-0600
TZOFFSETTO:-0500
DTSTART:20070311T020000
RRULE:FREQ=YEARLY;BYMONTH=3;BYDAY=2SU
TZNAME:CDT
END:DAYLIGHT
BEGIN:STANDARD
TZOFFSETFROM:-0500
TZOFFSETTO:-0600
DTSTART:20071104T020000
RRULE:FREQ=YEARLY;BYMONTH=11;BYDAY=1SU
TZNAME:CST
END:STANDARD
END:VTIMEZONE
BEGIN:VEVENT
UID:7f9f8651-4e95-4803-af36-7fbfb19a185d.234299@calendar.missouristate.edu
CREATED:20240311T133109Z
LAST-MODIFIED:20240311T133109Z
LOCATION:Plaster Student Union\, Robert W. PSU 101 - MRC
SUMMARY:Cha-TEA with the MRC
DESCRIPTION:Join us for the tea and say goodbye to another successful scho
 ol year. \n\n\n\n\n\nEvent type: It will be a bigger event. ChaTea is sup
 er popular and it can get a bit loud. Many people walking in and out\, ch
 atter in the MRC\, and many opportunities to ask questions and meet new f
 riends. Perfect event if you are a bit shy and wish to quickly get to kno
 w a few Bears on campus.
X-ALT-DESC;FMTTYPE=text/html:&lt;html&gt;&lt;head&gt;&lt;title&gt;&lt;/title&gt;&lt;/head&gt;&lt;body&gt;&lt;p&gt;Jo
 in us for the tea and say goodbye to another successful school year.&amp;nbsp
 \;&lt;/p&gt;\n&lt;p&gt;&lt;/p&gt;\n&lt;p&gt;&lt;strong&gt;Event type&lt;/strong&gt;: It will be a bigger even
 t. ChaTea is super popular and it can get a bit loud. Many people walking
  in and out\, chatter in the MRC\, and many opportunities to ask question
 s and meet new friends. Perfect event if you are a bit shy and wish to qu
 ickly get to know a few Bears on campus.&lt;/p&gt;&lt;/body&gt;&lt;/html&gt;
DTSTART;TZID=America/Chicago:20240501T140000
DTEND;TZID=America/Chicago:20240501T160000
SEQUENCE:0
URL:https://calendar.missouristate.edu/viewevent.aspx?eventid=123038&amp;occur
 renceid=234299
CATEGORIES:Current Students
END:VEVENT
END:VCALENDAR