BEGIN:VCALENDAR
VERSION:2.0
METHOD:PUBLISH
PRODID:-//Missouri State University/Calendar of Events//EN
CALSCALE:GREGORIAN
X-WR-TIMEZONE:America/Chicago
BEGIN:VTIMEZONE
TZID:America/Chicago
BEGIN:DAYLIGHT
TZOFFSETFROM:-0600
TZOFFSETTO:-0500
DTSTART:20070311T020000
RRULE:FREQ=YEARLY;BYMONTH=3;BYDAY=2SU
TZNAME:CDT
END:DAYLIGHT
BEGIN:STANDARD
TZOFFSETFROM:-0500
TZOFFSETTO:-0600
DTSTART:20071104T020000
RRULE:FREQ=YEARLY;BYMONTH=11;BYDAY=1SU
TZNAME:CST
END:STANDARD
END:VTIMEZONE
BEGIN:VEVENT
UID:3d41600f-e221-49ee-b424-d1e0e9916426.234300@calendar.missouristate.edu
CREATED:20240311T133206Z
LAST-MODIFIED:20240311T133206Z
LOCATION:Plaster Student Union\, Robert W. PSU 101 - MRC
SUMMARY:Thursday Talk
DESCRIPTION:Learn about Asian history in Hollywood with our graduate assis
 tant.\n\n\nEvent type: It will be a more intimate event. When having even
 ts in the MRC\, we expect no more than 30 participants. The space is welc
 oming and we have a room in case anyone experiences sensory issues.
X-ALT-DESC;FMTTYPE=text/html:&lt;html&gt;&lt;head&gt;&lt;title&gt;&lt;/title&gt;&lt;/head&gt;&lt;body&gt;&lt;p&gt;Le
 arn about Asian history in Hollywood with our graduate assistant.&lt;/p&gt;\n&lt;p
 &gt;&lt;strong&gt;Event type&lt;/strong&gt;:&amp;nbsp\;&lt;span&gt;It will be a more intimate even
 t. When having events in the MRC\, we expect no more than 30 participants
 . The space is welcoming and we have a room in case anyone experiences se
 nsory issues.&lt;/span&gt;&lt;/p&gt;&lt;/body&gt;&lt;/html&gt;
DTSTART;TZID=America/Chicago:20240502T140000
DTEND;TZID=America/Chicago:20240502T150000
SEQUENCE:0
URL:
CATEGORIES:Current Students,Faculty,Staff
END:VEVENT
END:VCALENDAR