BEGIN:VCALENDAR
VERSION:2.0
METHOD:PUBLISH
PRODID:-//Missouri State University/Calendar of Events//EN
CALSCALE:GREGORIAN
X-WR-TIMEZONE:America/Chicago
BEGIN:VTIMEZONE
TZID:America/Chicago
BEGIN:DAYLIGHT
TZOFFSETFROM:-0600
TZOFFSETTO:-0500
DTSTART:20070311T020000
RRULE:FREQ=YEARLY;BYMONTH=3;BYDAY=2SU
TZNAME:CDT
END:DAYLIGHT
BEGIN:STANDARD
TZOFFSETFROM:-0500
TZOFFSETTO:-0600
DTSTART:20071104T020000
RRULE:FREQ=YEARLY;BYMONTH=11;BYDAY=1SU
TZNAME:CST
END:STANDARD
END:VTIMEZONE
BEGIN:VEVENT
UID:c590f5c3-c344-4f45-83fa-598b93171fb7.234301@calendar.missouristate.edu
CREATED:20240311T133352Z
LAST-MODIFIED:20240311T133352Z
LOCATION:Plaster Student Union\, Robert W. PSU Theatre
SUMMARY:Movie Night: Hidden Figures
DESCRIPTION:Watch the movie Hidden Figures and learn about women who left 
 a mark in history. \n\n\n\n\n\nEvent type: It will be a bigger event. Whe
 n having events in bigger spaces on campus\, expect a louder event with m
 any people. As this is a movie night\, we expect everyone to behave like 
 in a real movie theatre. 
X-ALT-DESC;FMTTYPE=text/html:&lt;html&gt;&lt;head&gt;&lt;title&gt;&lt;/title&gt;&lt;/head&gt;&lt;body&gt;&lt;p&gt;Wa
 tch the movie Hidden Figures and learn about women who left a mark in his
 tory.&amp;nbsp\;&lt;/p&gt;\n&lt;p&gt;&lt;/p&gt;\n&lt;p&gt;Event type: It will be a bigger event. When
  having events in bigger spaces on campus\, expect a louder event with ma
 ny people. As this is a movie night\, we expect everyone to behave like i
 n a real movie theatre.&amp;nbsp\;&lt;/p&gt;&lt;/body&gt;&lt;/html&gt;
DTSTART;TZID=America/Chicago:20240503T190000
DTEND;TZID=America/Chicago:20240503T210000
SEQUENCE:0
URL:https://calendar.missouristate.edu/viewevent.aspx?eventid=123040&amp;occur
 renceid=234301
CATEGORIES:Current Students,Faculty,Staff
END:VEVENT
END:VCALENDAR