BEGIN:VCALENDAR
VERSION:2.0
METHOD:PUBLISH
PRODID:-//Missouri State University/Calendar of Events//EN
CALSCALE:GREGORIAN
X-WR-TIMEZONE:America/Chicago
BEGIN:VTIMEZONE
TZID:America/Chicago
BEGIN:DAYLIGHT
TZOFFSETFROM:-0600
TZOFFSETTO:-0500
DTSTART:20070311T020000
RRULE:FREQ=YEARLY;BYMONTH=3;BYDAY=2SU
TZNAME:CDT
END:DAYLIGHT
BEGIN:STANDARD
TZOFFSETFROM:-0500
TZOFFSETTO:-0600
DTSTART:20071104T020000
RRULE:FREQ=YEARLY;BYMONTH=11;BYDAY=1SU
TZNAME:CST
END:STANDARD
END:VTIMEZONE
BEGIN:VEVENT
UID:9646775e-a62a-401f-b9f2-9184fc209181_11142@calendar.missouristate.edu
CREATED:20240215T205129Z
LAST-MODIFIED:20240215T205129Z
LOCATION:Plaster Student Union\, Robert W. 141
SUMMARY:Honors College Resume Review
DESCRIPTION:Honors College students are invited to come to the Launchpad f
 or a Resume Review event. Students can have their resumes and cover lette
 rs reviewed by Career Center staff\, as well as learn how to communicate 
 honors experiences on their resumes. This is also an opportunity to prepa
 re for the upcoming Career Fair.
X-ALT-DESC;FMTTYPE=text/html:&lt;html&gt;&lt;head&gt;&lt;title&gt;&lt;/title&gt;&lt;/head&gt;&lt;body&gt;&lt;p&gt;Ho
 nors College students are invited to come to the Launchpad for a Resume R
 eview event. Students can have their resumes and cover letters reviewed b
 y Career Center staff\, as well as learn how to communicate honors experi
 ences on their resumes. This is also an opportunity to prepare for the up
 coming&amp;nbsp\;&lt;a href="https://calendar.missouristate.edu/event/122739/233
 554"&gt;Career Fair&lt;/a&gt;.&lt;/p&gt;&lt;/body&gt;&lt;/html&gt;
DTSTART;TZID=America/Chicago:20240220T110000
DTEND;TZID=America/Chicago:20240220T140000
RRULE:FREQ=DAILY;UNTIL=20240222
SEQUENCE:0
URL:
CATEGORIES:Current Students
END:VEVENT
END:VCALENDAR