BEGIN:VCALENDAR
VERSION:2.0
METHOD:PUBLISH
PRODID:-//Missouri State University/Calendar of Events//EN
CALSCALE:GREGORIAN
X-WR-TIMEZONE:America/Chicago
BEGIN:VTIMEZONE
TZID:America/Chicago
BEGIN:DAYLIGHT
TZOFFSETFROM:-0600
TZOFFSETTO:-0500
DTSTART:20070311T020000
RRULE:FREQ=YEARLY;BYMONTH=3;BYDAY=2SU
TZNAME:CDT
END:DAYLIGHT
BEGIN:STANDARD
TZOFFSETFROM:-0500
TZOFFSETTO:-0600
DTSTART:20071104T020000
RRULE:FREQ=YEARLY;BYMONTH=11;BYDAY=1SU
TZNAME:CST
END:STANDARD
END:VTIMEZONE
BEGIN:VEVENT
UID:07237e38-247e-4363-a097-86b4235cac80.234307@calendar.missouristate.edu
CREATED:20240216T182523Z
LAST-MODIFIED:20240216T182523Z
LOCATION:Morris Center\, Jim D. 500
SUMMARY:Optional Practical Training (OPT) Workshop for International Stude
 nts
DESCRIPTION:International students (F-1 visa status) graduating in the Spr
 ing 2024 or Fall 2024 semesters who intend to apply for Post-Completion O
 ptional Practical Training (OPT) are strongly encouraged to attend one of
  our informative workshops.  No reservation is required.
X-ALT-DESC;FMTTYPE=text/html:&lt;html&gt;&lt;head&gt;&lt;title&gt;&lt;/title&gt;&lt;/head&gt;&lt;body&gt;&lt;p&gt;In
 ternational students (F-1 visa status) graduating in the Spring 2024 or F
 all 2024 semesters who intend to apply for Post-Completion Optional Pract
 ical Training (OPT) are strongly encouraged to attend one of our informat
 ive workshops.&amp;nbsp\; No reservation is required.&lt;/p&gt;&lt;/body&gt;&lt;/html&gt;
DTSTART;TZID=America/Chicago:20240223T133000
DTEND;TZID=America/Chicago:20240223T150000
SEQUENCE:0
URL:https://international.missouristate.edu/Services/f-1-status-employment
 .htm#opt
CATEGORIES:Current Students
END:VEVENT
END:VCALENDAR