BEGIN:VCALENDAR
VERSION:2.0
METHOD:PUBLISH
PRODID:-//Missouri State University/Calendar of Events//EN
CALSCALE:GREGORIAN
X-WR-TIMEZONE:America/Chicago
BEGIN:VTIMEZONE
TZID:America/Chicago
BEGIN:DAYLIGHT
TZOFFSETFROM:-0600
TZOFFSETTO:-0500
DTSTART:20070311T020000
RRULE:FREQ=YEARLY;BYMONTH=3;BYDAY=2SU
TZNAME:CDT
END:DAYLIGHT
BEGIN:STANDARD
TZOFFSETFROM:-0500
TZOFFSETTO:-0600
DTSTART:20071104T020000
RRULE:FREQ=YEARLY;BYMONTH=11;BYDAY=1SU
TZNAME:CST
END:STANDARD
END:VTIMEZONE
BEGIN:VEVENT
UID:5ddf5563-9244-46bc-80c0-a44c2ce54426.234313@calendar.missouristate.edu
CREATED:20240216T202318Z
LAST-MODIFIED:20240216T202318Z
LOCATION:Meyer Alumni Center\, Kenneth E. 107
SUMMARY:Intensive Graduate Thesis Writing Retreat
DESCRIPTION:The retreat is a two-day opportunity for students writing thei
 r thesis to set writing goals\, practice disciplined writing habits\, lea
 rn new strategies\, and connect with other writers.\n\n\n\nSet achievable
  goals before the retreat begins and declare those goals publicly.\nSpend
  a few minutes meeting other writers to discuss goals and plans for the d
 ay.\nEnjoy blocks of uninterrupted writing time.\n\nApplication Deadline\
 nThursday\, February 8\, 2024
X-ALT-DESC;FMTTYPE=text/html:&lt;html&gt;&lt;head&gt;&lt;title&gt;&lt;/title&gt;&lt;/head&gt;&lt;body&gt;&lt;p&gt;Th
 e retreat is a two-day opportunity for students writing their thesis to s
 et writing goals\, practice disciplined writing habits\, learn new strate
 gies\, and connect with other writers.&lt;/p&gt;\n&lt;ul&gt;\n&lt;li&gt;Set achievable goal
 s before the retreat begins and declare those goals publicly.&lt;/li&gt;\n&lt;li&gt;S
 pend a few minutes meeting other writers to discuss goals and plans for t
 he day.&lt;/li&gt;\n&lt;li&gt;Enjoy blocks of uninterrupted writing time.&lt;/li&gt;\n&lt;/ul&gt;
 \n&lt;h5&gt;Application Deadline&lt;/h5&gt;\n&lt;p&gt;Thursday\, February 8\, 2024&lt;/p&gt;&lt;/bod
 y&gt;&lt;/html&gt;
DTSTART;VALUE=DATE:20240222
DTEND;VALUE=DATE:20240223
SEQUENCE:0
URL:https://writingcenter.missouristate.edu/a-note-from-the-director.htm
CATEGORIES:Current Students,Faculty,Staff
END:VEVENT
END:VCALENDAR