BEGIN:VCALENDAR
VERSION:2.0
METHOD:PUBLISH
PRODID:-//Missouri State University/Calendar of Events//EN
CALSCALE:GREGORIAN
X-WR-TIMEZONE:America/Chicago
BEGIN:VTIMEZONE
TZID:America/Chicago
BEGIN:DAYLIGHT
TZOFFSETFROM:-0600
TZOFFSETTO:-0500
DTSTART:20070311T020000
RRULE:FREQ=YEARLY;BYMONTH=3;BYDAY=2SU
TZNAME:CDT
END:DAYLIGHT
BEGIN:STANDARD
TZOFFSETFROM:-0500
TZOFFSETTO:-0600
DTSTART:20071104T020000
RRULE:FREQ=YEARLY;BYMONTH=11;BYDAY=1SU
TZNAME:CST
END:STANDARD
END:VTIMEZONE
BEGIN:VEVENT
UID:d89810a5-c54e-4b17-a8e8-eb9049f9dd06.234345@calendar.missouristate.edu
CREATED:20240216T222912Z
LAST-MODIFIED:20240216T222912Z
LOCATION:Plaster Student Union\, Robert W. 317
SUMMARY:Celebrate Korea\, Flight Voucher and Scholarship Opportunity
DESCRIPTION:Please join the Education Abroad team as we celebrate Korea! W
 e’ll serve Korean food and share Korean souvenirs with plenty of K-pop mu
 sic. During the event\, we’ll draw for a $500 flight voucher and share in
 formation about three $2\,500 education abroad scholarships to South Kore
 a. Students will share their Korean education abroad experiences and opti
 ons for your Korean adventure!\n\n\nRSVP to save your space.
X-ALT-DESC;FMTTYPE=text/html:&lt;html&gt;&lt;head&gt;&lt;title&gt;&lt;/title&gt;&lt;/head&gt;&lt;body&gt;&lt;p&gt;&lt;s
 pan&gt;Please join the Education Abroad team as we celebrate Korea! We’ll se
 rve Korean food and share Korean souvenirs with plenty of K-pop music. Du
 ring the event\, we’ll draw for a $500 flight voucher and share informati
 on about three $2\,500 education abroad scholarships to South Korea. Stud
 ents will share their Korean education abroad experiences and options for
  your Korean adventure!&lt;/span&gt;&lt;/p&gt;\n&lt;p&gt;&lt;span&gt;&lt;a href="https://missourista
 te.co1.qualtrics.com/jfe/form/SV_6JWIicdAcScgb6S"&gt;RSVP to save your space
 &lt;/a&gt;. &lt;/span&gt;&lt;/p&gt;&lt;/body&gt;&lt;/html&gt;
DTSTART;TZID=America/Chicago:20240306T153000
DTEND;TZID=America/Chicago:20240306T163000
SEQUENCE:1
URL:https://international.missouristate.edu/educationabroad/
CATEGORIES:Public,Current Students,Future Students
END:VEVENT
END:VCALENDAR