BEGIN:VCALENDAR
VERSION:2.0
METHOD:PUBLISH
PRODID:-//Missouri State University/Calendar of Events//EN
CALSCALE:GREGORIAN
X-WR-TIMEZONE:America/Chicago
BEGIN:VTIMEZONE
TZID:America/Chicago
BEGIN:DAYLIGHT
TZOFFSETFROM:-0600
TZOFFSETTO:-0500
DTSTART:20070311T020000
RRULE:FREQ=YEARLY;BYMONTH=3;BYDAY=2SU
TZNAME:CDT
END:DAYLIGHT
BEGIN:STANDARD
TZOFFSETFROM:-0500
TZOFFSETTO:-0600
DTSTART:20071104T020000
RRULE:FREQ=YEARLY;BYMONTH=11;BYDAY=1SU
TZNAME:CST
END:STANDARD
END:VTIMEZONE
BEGIN:VEVENT
UID:e08f03bf-9458-4498-999e-fdc68bdfb7a3.234352@calendar.missouristate.edu
CREATED:20240223T011641Z
LAST-MODIFIED:20240223T011641Z
LOCATION:
SUMMARY:Spring Family Day at Hammons Field
DESCRIPTION:Come out\, enjoy a fun day with your student and a terrific Mi
 ssouri State Baseball game.\n\n\nGates will open at 10 a.m.\, and the gam
 e will start at 11 a.m.\n\n\nStop by the Family Programs table and grab p
 opcorn from 10-11 a.m.\n\n\nTickets for the Baseball game are now on sale
 ! Download the order form and follow the directions to order your tickets
 . \n\n\nIf you have any questions\, contact Priscilla Childress at pchild
 ress@missouristate.edu.
X-ALT-DESC;FMTTYPE=text/html:&lt;html&gt;&lt;head&gt;&lt;title&gt;&lt;/title&gt;&lt;/head&gt;&lt;body&gt;&lt;p&gt;Co
 me out\, enjoy a fun day with your student and a terrific Missouri State 
 Baseball game.&lt;/p&gt;\n&lt;p&gt;Gates will open at 10 a.m.\, and the game will sta
 rt at 11 a.m.&lt;/p&gt;\n&lt;p&gt;Stop by the Family Programs table and grab popcorn 
 from 10-11 a.m.&lt;/p&gt;\n&lt;p&gt;&lt;strong&gt;Tickets for the Baseball game are now on 
 sale!&amp;nbsp\;&lt;/strong&gt;&lt;a href="https://www.missouristate.edu/BearsFamilies
 /_Files/2024SpringFamilyDayOrderForm.pdf"&gt;Download the order form&lt;/a&gt; and
  follow the directions to order your tickets. &lt;/p&gt;\n&lt;p&gt;If you have any qu
 estions\, contact Priscilla Childress at pchildress@missouristate.edu.&lt;/p
 &gt;&lt;/body&gt;&lt;/html&gt;
DTSTART;TZID=America/Chicago:20240413T100000
DTEND;TZID=America/Chicago:20240413T150000
SEQUENCE:0
URL:https://www.missouristate.edu/BearsFamilies/spring-family-day.htm
CATEGORIES:Public,Alumni,Current Students,Faculty,Future Students,Staff
END:VEVENT
END:VCALENDAR