BEGIN:VCALENDAR
VERSION:2.0
METHOD:PUBLISH
PRODID:-//Missouri State University/Calendar of Events//EN
CALSCALE:GREGORIAN
X-WR-TIMEZONE:America/Chicago
BEGIN:VTIMEZONE
TZID:America/Chicago
BEGIN:DAYLIGHT
TZOFFSETFROM:-0600
TZOFFSETTO:-0500
DTSTART:20070311T020000
RRULE:FREQ=YEARLY;BYMONTH=3;BYDAY=2SU
TZNAME:CDT
END:DAYLIGHT
BEGIN:STANDARD
TZOFFSETFROM:-0500
TZOFFSETTO:-0600
DTSTART:20071104T020000
RRULE:FREQ=YEARLY;BYMONTH=11;BYDAY=1SU
TZNAME:CST
END:STANDARD
END:VTIMEZONE
BEGIN:VEVENT
UID:dacd46ac-8943-45a4-b68a-36a5e76ccd1b.234354@calendar.missouristate.edu
CREATED:20240223T011857Z
LAST-MODIFIED:20240223T011857Z
LOCATION:Plaster Student Union\, Robert W. 2nd Floor Atrium
SUMMARY:Paws to the Polls Voting Fair
DESCRIPTION:Paws to the Polls is excited to host a Spring Voting Fair to h
 ighlight community and civic engagement in advance of the upcoming April 
 2 municipal election. \n\n\nThe Office of Public Affairs Support and the 
 Student Activities Council will partner with us\, and we have invited oth
 er campus offices and student organizations that fit with our theme of co
 mmunity or civic engagement. \n\n\nThe event features free food\, games\,
  prizes\, a tie-dye table\, and a photo booth featuring photo ops with “T
 he Bill” from Schoolhouse Rock and Big Dill from Pickleman’s.  \n\n\nWe h
 ave also invited local elected and appointed officials as guests to engag
 e with students about the importance of local government and the official
 s’ roles in it. The Greene County Clerk will be there to register voters 
 and demonstrate voting machines.     
X-ALT-DESC;FMTTYPE=text/html:&lt;html&gt;&lt;head&gt;&lt;title&gt;&lt;/title&gt;&lt;/head&gt;&lt;body&gt;&lt;p&gt;Pa
 ws to the Polls is excited to host a Spring Voting Fair to highlight comm
 unity and civic engagement in advance of the upcoming April 2 municipal e
 lection. &lt;/p&gt;\n&lt;p&gt;The Office of Public Affairs Support and the Student Ac
 tivities Council will partner with us\, and we have invited other campus 
 offices and student organizations that fit with our theme of community or
  civic engagement. &lt;/p&gt;\n&lt;p&gt;The event features free food\, games\, prizes
 \, a tie-dye table\, and a photo booth featuring photo ops with “The Bill
 ” from Schoolhouse Rock and Big Dill from Pickleman’s.&lt;span&gt;&amp;nbsp\; &lt;/spa
 n&gt;&lt;/p&gt;\n&lt;p&gt;We have also invited local elected and appointed officials as 
 guests to engage with students about the importance of local government a
 nd the officials’ roles in it. The Greene County Clerk will be there to r
 egister voters and demonstrate voting machines. &lt;span&gt;&amp;nbsp\;&lt;/span&gt;&lt;span
 &gt;&amp;nbsp\;&lt;/span&gt;&amp;nbsp\;&amp;nbsp\;&lt;/p&gt;&lt;/body&gt;&lt;/html&gt;
DTSTART;TZID=America/Chicago:20240305T120000
DTEND;TZID=America/Chicago:20240305T160000
SEQUENCE:0
URL:https://www.missouristate.edu/ADP/paws-to-the-polls.htm
CATEGORIES:Public,Alumni,Current Students,Faculty,Future Students,Staff
END:VEVENT
END:VCALENDAR