BEGIN:VCALENDAR
VERSION:2.0
METHOD:PUBLISH
PRODID:-//Missouri State University/Calendar of Events//EN
CALSCALE:GREGORIAN
X-WR-TIMEZONE:America/Chicago
BEGIN:VTIMEZONE
TZID:America/Chicago
BEGIN:DAYLIGHT
TZOFFSETFROM:-0600
TZOFFSETTO:-0500
DTSTART:20070311T020000
RRULE:FREQ=YEARLY;BYMONTH=3;BYDAY=2SU
TZNAME:CDT
END:DAYLIGHT
BEGIN:STANDARD
TZOFFSETFROM:-0500
TZOFFSETTO:-0600
DTSTART:20071104T020000
RRULE:FREQ=YEARLY;BYMONTH=11;BYDAY=1SU
TZNAME:CST
END:STANDARD
END:VTIMEZONE
BEGIN:VEVENT
UID:7e25e41b-ab56-4167-90c5-55249800e73e.234355@calendar.missouristate.edu
CREATED:20240319T141559Z
LAST-MODIFIED:20240319T141559Z
LOCATION:Plaster Student Union\, Robert W. 313
SUMMARY:Local Election Candidate Forum
DESCRIPTION:Paws to the Polls voter education initiative brings you our se
 cond annual Local Election Candidate Forum. This event helps to inform vo
 ters about the issues dealt with by the Springfield Public Schools School
  Board and allows them to get to know the candidates. Seven candidates ar
 e on the ballot and voters will choose three of them to serve on the scho
 ol board.
X-ALT-DESC;FMTTYPE=text/html:&lt;html&gt;&lt;head&gt;&lt;title&gt;&lt;/title&gt;&lt;/head&gt;&lt;body&gt;&lt;p&gt;Pa
 ws to the Polls voter education initiative brings you our second annual L
 ocal Election Candidate Forum. This event helps to inform voters about th
 e issues dealt with by the Springfield Public Schools School Board and al
 lows them to get to know the candidates. Seven candidates are on the ball
 ot and voters will choose three of them to serve on the school board.&lt;/p&gt;
 &lt;/body&gt;&lt;/html&gt;
DTSTART;TZID=America/Chicago:20240327T153000
DTEND;TZID=America/Chicago:20240327T170000
SEQUENCE:0
URL:https://www.missouristate.edu/ADP/paws-to-the-polls.htm
CATEGORIES:Public,Alumni,Current Students,Faculty,Future Students,Staff
END:VEVENT
END:VCALENDAR