BEGIN:VCALENDAR
VERSION:2.0
METHOD:PUBLISH
PRODID:-//Missouri State University/Calendar of Events//EN
CALSCALE:GREGORIAN
X-WR-TIMEZONE:America/Chicago
BEGIN:VTIMEZONE
TZID:America/Chicago
BEGIN:DAYLIGHT
TZOFFSETFROM:-0600
TZOFFSETTO:-0500
DTSTART:20070311T020000
RRULE:FREQ=YEARLY;BYMONTH=3;BYDAY=2SU
TZNAME:CDT
END:DAYLIGHT
BEGIN:STANDARD
TZOFFSETFROM:-0500
TZOFFSETTO:-0600
DTSTART:20071104T020000
RRULE:FREQ=YEARLY;BYMONTH=11;BYDAY=1SU
TZNAME:CST
END:STANDARD
END:VTIMEZONE
BEGIN:VEVENT
UID:5d22dee5-785e-42a9-9600-b3a538819d39.234360@calendar.missouristate.edu
CREATED:20240220T195018Z
LAST-MODIFIED:20240220T195018Z
LOCATION:
SUMMARY:History on Tap: Good Wives and Wise Mothers
DESCRIPTION:Join the History Department faculty for a lecture by Dr. Sarah
  Mellors Rodgriguez of MSU. She will deliver a lecture on Teaching Confuc
 ianism in East Asia with Primary Sources. This event is the second in the
  History on Tap lecture series\, held at Tie and Timber.\n\n\nLight refre
 shments will be served.
X-ALT-DESC;FMTTYPE=text/html:&lt;html&gt;&lt;head&gt;&lt;title&gt;&lt;/title&gt;&lt;/head&gt;&lt;body&gt;&lt;p&gt;Jo
 in the History Department faculty for a lecture by Dr. Sarah Mellors Rodg
 riguez of MSU. She will deliver a lecture on Teaching Confucianism in Eas
 t Asia with Primary Sources. This event is&amp;nbsp\;the second in the Histor
 y on Tap lecture series\, held at Tie and Timber.&lt;/p&gt;\n&lt;p&gt;Light refreshme
 nts will be served.&lt;/p&gt;&lt;/body&gt;&lt;/html&gt;
DTSTART;TZID=America/Chicago:20240222T183000
DTEND;TZID=America/Chicago:20240222T200000
SEQUENCE:0
URL:
CATEGORIES:Public,Alumni,Current Students,Faculty,Staff
END:VEVENT
END:VCALENDAR