BEGIN:VCALENDAR
VERSION:2.0
METHOD:PUBLISH
PRODID:-//Missouri State University/Calendar of Events//EN
CALSCALE:GREGORIAN
X-WR-TIMEZONE:America/Chicago
BEGIN:VTIMEZONE
TZID:America/Chicago
BEGIN:DAYLIGHT
TZOFFSETFROM:-0600
TZOFFSETTO:-0500
DTSTART:20070311T020000
RRULE:FREQ=YEARLY;BYMONTH=3;BYDAY=2SU
TZNAME:CDT
END:DAYLIGHT
BEGIN:STANDARD
TZOFFSETFROM:-0500
TZOFFSETTO:-0600
DTSTART:20071104T020000
RRULE:FREQ=YEARLY;BYMONTH=11;BYDAY=1SU
TZNAME:CST
END:STANDARD
END:VTIMEZONE
BEGIN:VEVENT
UID:00000000-0000-0000-0000-000000000000.234362@calendar.missouristate.edu
CREATED:20240220T194531Z
LAST-MODIFIED:20240220T194531Z
LOCATION:To Be Determined
SUMMARY:NYC Alumni Gathering
DESCRIPTION:We invite you to join the area alumni and friends in NYC for a
 n alumni event sponsored by Missouri State's department of theatre and da
 nce.
X-ALT-DESC;FMTTYPE=text/html:&lt;html&gt;&lt;head&gt;&lt;title&gt;&lt;/title&gt;&lt;/head&gt;&lt;body&gt;We in
 vite you to join the area alumni and friends&amp;nbsp\;in NYC&amp;nbsp\;for an al
 umni event sponsored by&amp;nbsp\;Missouri State's department of theatre and 
 dance.&lt;/body&gt;&lt;/html&gt;
DTSTART;TZID=America/Chicago:20240304T180000
DTEND;TZID=America/Chicago:20240304T203000
SEQUENCE:0
URL:https://missouristate.imodules.com?sid=1691&amp;gid=2&amp;pgid=3605&amp;cid=6364&amp;e
 cid=6364&amp;ciid=22057&amp;crid=0
CATEGORIES:Public,Alumni,Parents and Family,Visitors
END:VEVENT
END:VCALENDAR