BEGIN:VCALENDAR
VERSION:2.0
METHOD:PUBLISH
PRODID:-//Missouri State University/Calendar of Events//EN
CALSCALE:GREGORIAN
X-WR-TIMEZONE:America/Chicago
BEGIN:VTIMEZONE
TZID:America/Chicago
BEGIN:DAYLIGHT
TZOFFSETFROM:-0600
TZOFFSETTO:-0500
DTSTART:20070311T020000
RRULE:FREQ=YEARLY;BYMONTH=3;BYDAY=2SU
TZNAME:CDT
END:DAYLIGHT
BEGIN:STANDARD
TZOFFSETFROM:-0500
TZOFFSETTO:-0600
DTSTART:20071104T020000
RRULE:FREQ=YEARLY;BYMONTH=11;BYDAY=1SU
TZNAME:CST
END:STANDARD
END:VTIMEZONE
BEGIN:VEVENT
UID:b259b5ab-1401-47f3-bbcc-bd516a61a98e.234363@calendar.missouristate.edu
CREATED:20240223T012752Z
LAST-MODIFIED:20240223T012752Z
LOCATION:Morris Center\, Jim D. First Floor Lobby
SUMMARY:Japanese ArtWalk
DESCRIPTION:Come and join us at our beginning of the month Japan ArtWalk! 
 Immerse yourself in the vibrant Japanese culture and learn more about the
  traditional vs. modern side of Japan. Japanese university students will 
 showcase things\, such as martial arts demonstration\, dance performances
  and cosplay. With small Japanese snacks provided and hands-on experience
  with origamis as well\, this will be an unforgettable journey for you to
  experience.
X-ALT-DESC;FMTTYPE=text/html:&lt;html&gt;&lt;head&gt;&lt;title&gt;&lt;/title&gt;&lt;/head&gt;&lt;body&gt;&lt;p&gt;Co
 me and join us at our beginning of the month Japan ArtWalk! Immerse yours
 elf in the vibrant Japanese culture and learn more about the traditional 
 vs. modern side of Japan. Japanese university students will showcase thin
 gs\, such as martial arts demonstration\, dance performances and cosplay.
  With small Japanese snacks provided and hands-on experience with origami
 s as well\, this will be an unforgettable journey for you to experience.&lt;
 /p&gt;&lt;/body&gt;&lt;/html&gt;
DTSTART;TZID=America/Chicago:20240301T170000
DTEND;TZID=America/Chicago:20240301T193000
SEQUENCE:0
URL:123065.jpg
CATEGORIES:Public,Alumni,Current Students,Faculty,Future Students,Staff
END:VEVENT
END:VCALENDAR