BEGIN:VCALENDAR
VERSION:2.0
METHOD:PUBLISH
PRODID:-//Missouri State University/Calendar of Events//EN
CALSCALE:GREGORIAN
X-WR-TIMEZONE:America/Chicago
BEGIN:VTIMEZONE
TZID:America/Chicago
BEGIN:DAYLIGHT
TZOFFSETFROM:-0600
TZOFFSETTO:-0500
DTSTART:20070311T020000
RRULE:FREQ=YEARLY;BYMONTH=3;BYDAY=2SU
TZNAME:CDT
END:DAYLIGHT
BEGIN:STANDARD
TZOFFSETFROM:-0500
TZOFFSETTO:-0600
DTSTART:20071104T020000
RRULE:FREQ=YEARLY;BYMONTH=11;BYDAY=1SU
TZNAME:CST
END:STANDARD
END:VTIMEZONE
BEGIN:VEVENT
UID:b1ef69b5-cecd-41de-9023-28edb9a11236.234364@calendar.missouristate.edu
CREATED:20240221T184031Z
LAST-MODIFIED:20240221T184031Z
LOCATION:Faurot Hall 101
SUMMARY:MSU - Mountain Grove Tree Fruit and Grape Pruning Workshop
DESCRIPTION:Join our annual hands-on pruning workshop.\n\n\nPruning demons
 trations will include fruit trees\, apples\, pears and peaches. We will a
 lso prune grapes and show their different training systems and trellises.
   \n\n\nWe will meet under the pavilion\, located on the west side of Hwy
  95 (go through the yellow gate) at the State Fruit Experiment Station\, 
 9740 Red Spring Rd.\, Mountain Grove. \n\n\nThe workshop will start with 
 a short introduction to the care and use of pruning shears\, loppers and 
 safety equipment. Demonstrations will immediately follow\, so bring your 
 pruning tools and dress appropriately for the weather and muddy soil. \n\
 n\nNo registration is required. Call 417-547-7500 for questions.\n\n\nNot
 e: If the weather is completely unreasonable\, this event will be cancele
 d\, so please check your email before attending.
X-ALT-DESC;FMTTYPE=text/html:&lt;html&gt;&lt;head&gt;&lt;title&gt;&lt;/title&gt;&lt;/head&gt;&lt;body&gt;&lt;p&gt;&lt;s
 pan&gt;Join our annual hands-on pruning workshop.&lt;/span&gt;&lt;/p&gt;\n&lt;p&gt;&lt;span&gt;Pruni
 ng demonstrations will include fruit trees\, apples\, pears and peaches. 
 We will also prune grapes and show their different training systems and t
 rellises.&amp;nbsp\; &lt;/span&gt;&lt;/p&gt;\n&lt;p&gt;&lt;span&gt;We will meet under the pavilion\, 
 located on the west side of Hwy 95 (go through the yellow gate) at the St
 ate Fruit Experiment Station\, 9740 Red Spring Rd.\, Mountain Grove. &lt;/sp
 an&gt;&lt;/p&gt;\n&lt;p&gt;&lt;span&gt;The workshop will start with a short introduction to th
 e care and use of pruning shears\, loppers and safety equipment. Demonstr
 ations will immediately follow\, so bring your pruning tools and dress ap
 propriately for the weather and muddy soil.&amp;nbsp\;&lt;/span&gt;&lt;/p&gt;\n&lt;p&gt;&lt;b&gt;&lt;spa
 n&gt;No registration is required. &lt;/span&gt;&lt;/b&gt;&lt;span&gt;Call 417-547-7500 for que
 stions.&lt;br&gt;&lt;/span&gt;&lt;/p&gt;\n&lt;p&gt;&lt;span&gt;Note: If the weather is completely unrea
 sonable\, this event will be canceled\, so please check your email before
  attending.&lt;/span&gt;&lt;/p&gt;&lt;/body&gt;&lt;/html&gt;
DTSTART;TZID=America/Chicago:20240308T090000
DTEND;TZID=America/Chicago:20240308T110000
SEQUENCE:0
URL:123066.jpg
CATEGORIES:Public,Alumni,Current Students
END:VEVENT
END:VCALENDAR