BEGIN:VCALENDAR
VERSION:2.0
METHOD:PUBLISH
PRODID:-//Missouri State University/Calendar of Events//EN
CALSCALE:GREGORIAN
X-WR-TIMEZONE:America/Chicago
BEGIN:VTIMEZONE
TZID:America/Chicago
BEGIN:DAYLIGHT
TZOFFSETFROM:-0600
TZOFFSETTO:-0500
DTSTART:20070311T020000
RRULE:FREQ=YEARLY;BYMONTH=3;BYDAY=2SU
TZNAME:CDT
END:DAYLIGHT
BEGIN:STANDARD
TZOFFSETFROM:-0500
TZOFFSETTO:-0600
DTSTART:20071104T020000
RRULE:FREQ=YEARLY;BYMONTH=11;BYDAY=1SU
TZNAME:CST
END:STANDARD
END:VTIMEZONE
BEGIN:VEVENT
UID:43f00ee4-d1e3-4151-a162-c06caae15ae7.234365@calendar.missouristate.edu
CREATED:20240223T015056Z
LAST-MODIFIED:20240223T015056Z
LOCATION:Faurot Hall 101
SUMMARY:MSU - Mountain Grove/University of Missouri Apple Grafting Workshop
DESCRIPTION:Have you considered mastering the skill of grafting fruit tree
 s? Now is your opportunity to join fruit grafting experts from Missouri S
 tate University and the University of Missouri Extension for a hands-on o
 pportunity to do just that! We are offering five apple grafting workshops
  where you will learn the concepts of grafting\, and then practice these 
 concepts with a trained grafter. We provide the rootstocks\, the scions\,
  the supplies and the tools\, and you will take away two semi-dwarf apple
  trees.\n\n\nLocation:\n\n\nFaurot Hall – MSU Fruit Experiment Station974
 0 Red Spring Rd.\, Mountain Grove\, MO 65711\n\n\nRegister for the worksh
 op
X-ALT-DESC;FMTTYPE=text/html:&lt;html&gt;&lt;head&gt;&lt;title&gt;&lt;/title&gt;&lt;/head&gt;&lt;body&gt;&lt;p&gt;&lt;s
 pan&gt;Have you considered mastering the skill of grafting fruit trees? Now 
 is your opportunity to join fruit grafting experts from Missouri State Un
 iversity and the University of Missouri Extension for a hands-on opportun
 ity to do just that! We are offering five apple grafting workshops where 
 you will learn the concepts of grafting\, and then practice these concept
 s with a trained grafter. We provide the rootstocks\, the scions\, the su
 pplies and the tools\, and you will take away two semi-dwarf apple trees.
 &lt;/span&gt;&lt;/p&gt;\n&lt;p&gt;&lt;span&gt;Location:&lt;/span&gt;&lt;/p&gt;\n&lt;p&gt;Faurot Hall – MSU Fruit Ex
 periment Station&lt;br&gt;9740 Red Spring Rd.\, Mountain Grove\, MO 65711&lt;/p&gt;\n
 &lt;p&gt;&lt;a href="https://extension.missouri.edu/events/apple-grafting-workshop
 -mountain-grove"&gt;Register for the workshop&lt;/a&gt;&lt;/p&gt;&lt;/body&gt;&lt;/html&gt;
DTSTART;TZID=America/Chicago:20240320T130000
DTEND;TZID=America/Chicago:20240320T160000
SEQUENCE:0
URL:https://extension.missouri.edu/events/apple-grafting-workshop-mountain
 -grove
CATEGORIES:Public,Alumni,Current Students
END:VEVENT
END:VCALENDAR