BEGIN:VCALENDAR
VERSION:2.0
METHOD:PUBLISH
PRODID:-//Missouri State University/Calendar of Events//EN
CALSCALE:GREGORIAN
X-WR-TIMEZONE:America/Chicago
BEGIN:VTIMEZONE
TZID:America/Chicago
BEGIN:DAYLIGHT
TZOFFSETFROM:-0600
TZOFFSETTO:-0500
DTSTART:20070311T020000
RRULE:FREQ=YEARLY;BYMONTH=3;BYDAY=2SU
TZNAME:CDT
END:DAYLIGHT
BEGIN:STANDARD
TZOFFSETFROM:-0500
TZOFFSETTO:-0600
DTSTART:20071104T020000
RRULE:FREQ=YEARLY;BYMONTH=11;BYDAY=1SU
TZNAME:CST
END:STANDARD
END:VTIMEZONE
BEGIN:VEVENT
UID:078d4ad7-647b-4c95-9cd0-223afb3bd3e9.234366@calendar.missouristate.edu
CREATED:20240223T014719Z
LAST-MODIFIED:20240223T014719Z
LOCATION:Darr Agricultural Center DCAB 116
SUMMARY:MSU - Mountain Grove/University of Missouri Apple Grafting Workshop
DESCRIPTION:Have you considered mastering the skill of grafting fruit tree
 s? Now is your opportunity to join fruit grafting experts from Missouri S
 tate University and the University of Missouri Extension for a hands-on o
 pportunity to do just that! We are offering five apple grafting workshops
  where you will learn the concepts of grafting\, and then practice these 
 concepts with a trained grafter. We provide the rootstocks\, the scions\,
  the supplies and the tools\, and you will take away two semi-dwarf apple
  trees.Location:Bond Learning Center at Darr Agricultural\, Missouri Stat
 e University2401 S. Kansas Expy.\, Springfield\, MO 65807\n\n\nRegister f
 or the workshop
X-ALT-DESC;FMTTYPE=text/html:&lt;html&gt;&lt;head&gt;&lt;title&gt;&lt;/title&gt;&lt;/head&gt;&lt;body&gt;&lt;p&gt;Ha
 ve you considered mastering the skill of grafting fruit trees? Now is you
 r opportunity to join fruit grafting experts from Missouri State Universi
 ty and the University of Missouri Extension for a hands-on opportunity to
  do just that! We are offering five apple grafting workshops where you wi
 ll learn the concepts of grafting\, and then practice these concepts with
  a trained grafter. We provide the rootstocks\, the scions\, the supplies
  and the tools\, and you will take away two semi-dwarf apple trees.&lt;br&gt;&lt;b
 r&gt;Location:&lt;br&gt;&lt;br&gt;Bond Learning Center at Darr Agricultural\, Missouri S
 tate University&lt;br&gt;2401 S. Kansas Expy.\, Springfield\, MO 65807&lt;/p&gt;\n&lt;p&gt;
 &lt;a href="https://extension.missouri.edu/events/apple-grafting-workshop-sp
 ringfield"&gt;Register for the workshop&lt;/a&gt;&lt;/p&gt;&lt;/body&gt;&lt;/html&gt;
DTSTART;TZID=America/Chicago:20240320T180000
DTEND;TZID=America/Chicago:20240320T210000
SEQUENCE:0
URL:https://extension.missouri.edu/events/apple-grafting-workshop-springfi
 eld
CATEGORIES:Public,Alumni,Current Students
END:VEVENT
END:VCALENDAR