BEGIN:VCALENDAR
VERSION:2.0
METHOD:PUBLISH
PRODID:-//Missouri State University/Calendar of Events//EN
CALSCALE:GREGORIAN
X-WR-TIMEZONE:America/Chicago
BEGIN:VTIMEZONE
TZID:America/Chicago
BEGIN:DAYLIGHT
TZOFFSETFROM:-0600
TZOFFSETTO:-0500
DTSTART:20070311T020000
RRULE:FREQ=YEARLY;BYMONTH=3;BYDAY=2SU
TZNAME:CDT
END:DAYLIGHT
BEGIN:STANDARD
TZOFFSETFROM:-0500
TZOFFSETTO:-0600
DTSTART:20071104T020000
RRULE:FREQ=YEARLY;BYMONTH=11;BYDAY=1SU
TZNAME:CST
END:STANDARD
END:VTIMEZONE
BEGIN:VEVENT
UID:6fc37aee-0c79-429f-a8aa-201edfdf090c.234372@calendar.missouristate.edu
CREATED:20240222T195240Z
LAST-MODIFIED:20240222T195240Z
LOCATION:Strong Hall Atrium
SUMMARY:Peace Corps Prep Social Event
DESCRIPTION:Drop by any time between 4-6 p.m. to discuss:\n\n\n(1) The fre
 e Missouri State University 'Peace Corps Prep' certificate program that w
 ill highlight your global preparedness\n\n\n(2) Service with Peace Corps 
 as your first post-graduation employment and all of the benefits that com
 e with international government service\n\n\nYou can earn a certificate w
 hether or not you wish to join Peace Corps! The certificate does not requ
 ire courses outside of your degree program.\n\n\nLight refreshments will 
 be provided.
X-ALT-DESC;FMTTYPE=text/html:&lt;html&gt;&lt;head&gt;&lt;title&gt;&lt;/title&gt;&lt;/head&gt;&lt;body&gt;&lt;p&gt;Dr
 op by&amp;nbsp\;&lt;strong&gt;any time between 4-6 p.m.&lt;/strong&gt; to discuss:&lt;/p&gt;\n&lt;
 p&gt;(1) The free &lt;strong&gt;Missouri State University 'Peace Corps Prep' certi
 ficate program&lt;/strong&gt;&amp;nbsp\;that will highlight your global preparednes
 s&lt;/p&gt;\n&lt;p&gt;(2) &lt;strong&gt;Service with Peace Corps&lt;/strong&gt;&amp;nbsp\;as your fir
 st post-graduation employment and all of the benefits that come with inte
 rnational government service&lt;/p&gt;\n&lt;p&gt;You can earn a certificate whether o
 r not you wish to join Peace Corps! The certificate does not require cour
 ses outside of your degree program.&lt;/p&gt;\n&lt;p&gt;Light refreshments will be pr
 ovided.&lt;/p&gt;&lt;/body&gt;&lt;/html&gt;
DTSTART;TZID=America/Chicago:20240305T160000
DTEND;TZID=America/Chicago:20240305T180000
SEQUENCE:0
URL:https://www.missouristate.edu/SAG/PeaceCorpsPrep/default.htm
CATEGORIES:Public,Alumni,Current Students,Faculty,Future Students,Staff
END:VEVENT
END:VCALENDAR