BEGIN:VCALENDAR
VERSION:2.0
METHOD:PUBLISH
PRODID:-//Missouri State University/Calendar of Events//EN
CALSCALE:GREGORIAN
X-WR-TIMEZONE:America/Chicago
BEGIN:VTIMEZONE
TZID:America/Chicago
BEGIN:DAYLIGHT
TZOFFSETFROM:-0600
TZOFFSETTO:-0500
DTSTART:20070311T020000
RRULE:FREQ=YEARLY;BYMONTH=3;BYDAY=2SU
TZNAME:CDT
END:DAYLIGHT
BEGIN:STANDARD
TZOFFSETFROM:-0500
TZOFFSETTO:-0600
DTSTART:20071104T020000
RRULE:FREQ=YEARLY;BYMONTH=11;BYDAY=1SU
TZNAME:CST
END:STANDARD
END:VTIMEZONE
BEGIN:VEVENT
UID:2bbfa1c8-8389-4eb1-a5bc-cb072c324311.234387@calendar.missouristate.edu
CREATED:20240311T172920Z
LAST-MODIFIED:20240311T172920Z
LOCATION:Shannon Hall 108
SUMMARY:Early-Stage Business Boot Camp - South Central Region
DESCRIPTION:Are you an aspiring or early-stage small business owner? The E
 arly-Stage Business Boot Camp helps entrepreneurs look at all aspects of 
 their business\, explore the feasibility of a new business venture and le
 arn how to develop a viable business model.During this fast-paced\, inter
 active\, fun and energizing program\, attendees will discover the best pr
 actices\, talk through real-life examples and learn about valuable local 
 resources designed to help small businesses grow. This multi-session Boot
  Camp is an accelerated program that helps build your foundational busine
 ss knowledge and jumpstart your new business. This program is offered in 
 conjunction with Missouri State University - Mountain Grove and the Ozark
 s Small Business Incubator (OzSBI).Participants of the program will recei
 ve ongoing coaching and mentoring to develop a growth plan and financial 
 budget by the end of the program. Guest speakers and visiting entrepreneu
 rs will bring their real-world experience to make the program topics come
  alive.
X-ALT-DESC;FMTTYPE=text/html:&lt;html&gt;&lt;head&gt;&lt;title&gt;&lt;/title&gt;&lt;/head&gt;&lt;body&gt;&lt;p&gt;&lt;s
 pan&gt;Are you an aspiring or early-stage small business owner? The Early-St
 age Business Boot Camp helps entrepreneurs look at all aspects of their b
 usiness\, explore the feasibility of a new business venture and learn how
  to develop a viable business model.&lt;/span&gt;&lt;br&gt;&lt;br&gt;&lt;span&gt;During this fast
 -paced\, interactive\, fun and energizing program\, attendees will discov
 er the best practices\, talk through real-life examples and learn about v
 aluable local resources designed to help small businesses grow. This mult
 i-session Boot Camp is an accelerated program that helps build your found
 ational business knowledge and jumpstart your new business. This program 
 is offered in conjunction with Missouri State University - Mountain Grove
  and the Ozarks Small Business Incubator (OzSBI).&lt;/span&gt;&lt;br&gt;&lt;br&gt;&lt;span&gt;Par
 ticipants of the program will receive ongoing coaching and mentoring to d
 evelop a growth plan and financial budget by the end of the program. Gues
 t speakers and visiting entrepreneurs will bring their real-world experie
 nce to make the program topics come alive.&lt;/span&gt;&lt;/p&gt;&lt;/body&gt;&lt;/html&gt;
DTSTART;TZID=America/Chicago:20240319T173000
DTEND;TZID=America/Chicago:20240319T200000
SEQUENCE:0
URL:https://missouri.ecenterdirect.com/events/24963
CATEGORIES:Public
END:VEVENT
BEGIN:VEVENT
UID:2bbfa1c8-8389-4eb1-a5bc-cb072c324311_11147@calendar.missouristate.edu
CREATED:20240311T172920Z
LAST-MODIFIED:20240311T172920Z
LOCATION:Shannon Hall 108
SUMMARY:Early-Stage Business Boot Camp - South Central Region
DESCRIPTION:Are you an aspiring or early-stage small business owner? The E
 arly-Stage Business Boot Camp helps entrepreneurs look at all aspects of 
 their business\, explore the feasibility of a new business venture and le
 arn how to develop a viable business model.During this fast-paced\, inter
 active\, fun and energizing program\, attendees will discover the best pr
 actices\, talk through real-life examples and learn about valuable local 
 resources designed to help small businesses grow. This multi-session Boot
  Camp is an accelerated program that helps build your foundational busine
 ss knowledge and jumpstart your new business. This program is offered in 
 conjunction with Missouri State University - Mountain Grove and the Ozark
 s Small Business Incubator (OzSBI).Participants of the program will recei
 ve ongoing coaching and mentoring to develop a growth plan and financial 
 budget by the end of the program. Guest speakers and visiting entrepreneu
 rs will bring their real-world experience to make the program topics come
  alive.
X-ALT-DESC;FMTTYPE=text/html:&lt;html&gt;&lt;head&gt;&lt;title&gt;&lt;/title&gt;&lt;/head&gt;&lt;body&gt;&lt;p&gt;&lt;s
 pan&gt;Are you an aspiring or early-stage small business owner? The Early-St
 age Business Boot Camp helps entrepreneurs look at all aspects of their b
 usiness\, explore the feasibility of a new business venture and learn how
  to develop a viable business model.&lt;/span&gt;&lt;br&gt;&lt;br&gt;&lt;span&gt;During this fast
 -paced\, interactive\, fun and energizing program\, attendees will discov
 er the best practices\, talk through real-life examples and learn about v
 aluable local resources designed to help small businesses grow. This mult
 i-session Boot Camp is an accelerated program that helps build your found
 ational business knowledge and jumpstart your new business. This program 
 is offered in conjunction with Missouri State University - Mountain Grove
  and the Ozarks Small Business Incubator (OzSBI).&lt;/span&gt;&lt;br&gt;&lt;br&gt;&lt;span&gt;Par
 ticipants of the program will receive ongoing coaching and mentoring to d
 evelop a growth plan and financial budget by the end of the program. Gues
 t speakers and visiting entrepreneurs will bring their real-world experie
 nce to make the program topics come alive.&lt;/span&gt;&lt;/p&gt;&lt;/body&gt;&lt;/html&gt;
DTSTART;TZID=America/Chicago:20240326T173000
DTEND;TZID=America/Chicago:20240326T200000
RRULE:FREQ=WEEKLY;BYDAY=MO;UNTIL=20240508
SEQUENCE:0
URL:https://missouri.ecenterdirect.com/events/24963
CATEGORIES:Public
END:VEVENT
END:VCALENDAR