BEGIN:VCALENDAR
VERSION:2.0
METHOD:PUBLISH
PRODID:-//Missouri State University/Calendar of Events//EN
CALSCALE:GREGORIAN
X-WR-TIMEZONE:America/Chicago
BEGIN:VTIMEZONE
TZID:America/Chicago
BEGIN:DAYLIGHT
TZOFFSETFROM:-0600
TZOFFSETTO:-0500
DTSTART:20070311T020000
RRULE:FREQ=YEARLY;BYMONTH=3;BYDAY=2SU
TZNAME:CDT
END:DAYLIGHT
BEGIN:STANDARD
TZOFFSETFROM:-0500
TZOFFSETTO:-0600
DTSTART:20071104T020000
RRULE:FREQ=YEARLY;BYMONTH=11;BYDAY=1SU
TZNAME:CST
END:STANDARD
END:VTIMEZONE
BEGIN:VEVENT
UID:e1dd6fd9-f772-4312-ada5-17538b76e054.234447@calendar.missouristate.edu
CREATED:20240223T161546Z
LAST-MODIFIED:20240223T161546Z
LOCATION:Carrington Hall 203
SUMMARY:Board of Governors Special Meeting
DESCRIPTION:The Missouri State University Board of Governors will hold a s
 pecial meeting.\n\n\n\n\n\nMeeting agendas can be found here: https://www
 .missouristate.edu/BOG/Agendas/
X-ALT-DESC;FMTTYPE=text/html:&lt;html&gt;&lt;head&gt;&lt;title&gt;&lt;/title&gt;&lt;/head&gt;&lt;body&gt;&lt;p&gt;Th
 e Missouri State University Board of Governors will hold a special meetin
 g.&lt;/p&gt;\n&lt;p&gt;&lt;/p&gt;\n&lt;p&gt;Meeting agendas can be found here:&amp;nbsp\;&lt;a href="htt
 ps://www.missouristate.edu/BOG/Agendas/"&gt;https://www.missouristate.edu/BO
 G/Agendas/&lt;/a&gt;&lt;/p&gt;&lt;/body&gt;&lt;/html&gt;
DTSTART;TZID=America/Chicago:20240227T160000
DTEND;TZID=America/Chicago:20240227T180000
SEQUENCE:0
URL:https://www.missouristate.edu/BOG/
CATEGORIES:Public,Alumni,Current Students,Faculty,Future Students,Staff
END:VEVENT
END:VCALENDAR