BEGIN:VCALENDAR
VERSION:2.0
METHOD:PUBLISH
PRODID:-//Missouri State University/Calendar of Events//EN
CALSCALE:GREGORIAN
X-WR-TIMEZONE:America/Chicago
BEGIN:VTIMEZONE
TZID:America/Chicago
BEGIN:DAYLIGHT
TZOFFSETFROM:-0600
TZOFFSETTO:-0500
DTSTART:20070311T020000
RRULE:FREQ=YEARLY;BYMONTH=3;BYDAY=2SU
TZNAME:CDT
END:DAYLIGHT
BEGIN:STANDARD
TZOFFSETFROM:-0500
TZOFFSETTO:-0600
DTSTART:20071104T020000
RRULE:FREQ=YEARLY;BYMONTH=11;BYDAY=1SU
TZNAME:CST
END:STANDARD
END:VTIMEZONE
BEGIN:VEVENT
UID:00000000-0000-0000-0000-000000000000.234457@calendar.missouristate.edu
CREATED:20240226T174511Z
LAST-MODIFIED:20240226T174511Z
LOCATION:To Be Determined
SUMMARY:Springfield Alumni Chapter Day at Lady Bears Basketball
DESCRIPTION:Join us in cheering on our Lady Bears as they go head-to-head 
 with Illinois State on Saturday\, March 2nd! Be a part of the excitement 
 and help us pack Great Southern Bank Arena by bringing along your family 
 and friends.
X-ALT-DESC;FMTTYPE=text/html:&lt;html&gt;&lt;head&gt;&lt;title&gt;&lt;/title&gt;&lt;/head&gt;&lt;body&gt;Join 
 us in cheering on our Lady Bears as they go head-to-head with Illinois St
 ate on Saturday\, March 2nd! Be a part of the excitement and help us pack
  Great Southern Bank Arena by bringing along your family and friends.&lt;br&gt;
 &lt;/body&gt;&lt;/html&gt;
DTSTART;TZID=America/Chicago:20240302T140000
DTEND;TZID=America/Chicago:20240302T160000
SEQUENCE:0
URL:https://missouristate.imodules.com?sid=1691&amp;gid=2&amp;pgid=3590&amp;cid=6338&amp;e
 cid=6338&amp;ciid=22054&amp;crid=0
CATEGORIES:Public,Alumni,Parents and Family,Visitors
END:VEVENT
END:VCALENDAR