BEGIN:VCALENDAR
VERSION:2.0
METHOD:PUBLISH
PRODID:-//Missouri State University/Calendar of Events//EN
CALSCALE:GREGORIAN
X-WR-TIMEZONE:America/Chicago
BEGIN:VTIMEZONE
TZID:America/Chicago
BEGIN:DAYLIGHT
TZOFFSETFROM:-0600
TZOFFSETTO:-0500
DTSTART:20070311T020000
RRULE:FREQ=YEARLY;BYMONTH=3;BYDAY=2SU
TZNAME:CDT
END:DAYLIGHT
BEGIN:STANDARD
TZOFFSETFROM:-0500
TZOFFSETTO:-0600
DTSTART:20071104T020000
RRULE:FREQ=YEARLY;BYMONTH=11;BYDAY=1SU
TZNAME:CST
END:STANDARD
END:VTIMEZONE
BEGIN:VEVENT
UID:00000000-0000-0000-0000-000000000000.234458@calendar.missouristate.edu
CREATED:20240226T174518Z
LAST-MODIFIED:20240226T174518Z
LOCATION:To Be Determined
SUMMARY:Los Angeles Alumni Gathering 
DESCRIPTION:Join Theatre and Dance Department faculty members Sarah Wiggin
 \, Kurt Heinlein\, and current MSU Theatre and Dance students on March 7 
 for a casual gathering with Missouri State alumni and friends in the Los 
 Angeles area.
X-ALT-DESC;FMTTYPE=text/html:&lt;html&gt;&lt;head&gt;&lt;title&gt;&lt;/title&gt;&lt;/head&gt;&lt;body&gt;Join 
 Theatre and Dance Department faculty members Sarah Wiggin\, Kurt Heinlein
 \, and current MSU Theatre and Dance students on March 7 for a casual gat
 hering with Missouri State alumni and friends in the Los Angeles area.&lt;/b
 ody&gt;&lt;/html&gt;
DTSTART;TZID=America/Chicago:20240307T180000
DTEND;TZID=America/Chicago:20240307T200000
SEQUENCE:0
URL:https://missouristate.imodules.com?sid=1691&amp;gid=2&amp;pgid=3618&amp;cid=6382&amp;e
 cid=6382&amp;ciid=22056&amp;crid=0
CATEGORIES:Public,Alumni,Parents and Family,Visitors
END:VEVENT
END:VCALENDAR