BEGIN:VCALENDAR
VERSION:2.0
METHOD:PUBLISH
PRODID:-//Missouri State University/Calendar of Events//EN
CALSCALE:GREGORIAN
X-WR-TIMEZONE:America/Chicago
BEGIN:VTIMEZONE
TZID:America/Chicago
BEGIN:DAYLIGHT
TZOFFSETFROM:-0600
TZOFFSETTO:-0500
DTSTART:20070311T020000
RRULE:FREQ=YEARLY;BYMONTH=3;BYDAY=2SU
TZNAME:CDT
END:DAYLIGHT
BEGIN:STANDARD
TZOFFSETFROM:-0500
TZOFFSETTO:-0600
DTSTART:20071104T020000
RRULE:FREQ=YEARLY;BYMONTH=11;BYDAY=1SU
TZNAME:CST
END:STANDARD
END:VTIMEZONE
BEGIN:VEVENT
UID:b7168dbc-c017-4c73-a28f-a1667c2a500f.234463@calendar.missouristate.edu
CREATED:20240229T142036Z
LAST-MODIFIED:20240229T142036Z
LOCATION:Plaster Student Union\, Robert W.
SUMMARY:SASA Holi
DESCRIPTION:Join in the celebration of Holi with the South Asian Students 
 Association (SASA).Holi\, also known as the Festival of Colors\, is one o
 f the most popular and significant festivals in Hinduism. It celebrates t
 he eternal and divine love of god Radha and Krishna. The day also signifi
 es the triumph of good over evil\, as it commemorates the victory of god 
 Vishnu as Narasimha Narayana over Hiranyakashipu. It originated and is pr
 edominantly celebrated in the Indian subcontinent but has also spread to 
 other regions of Asia and parts of the Western world. Holi celebrates the
  arrival of spring (season)\, the end of winter and the blossoming of lov
 e\, and for many\, it is a festive day to meet others\, play and laugh\, 
 forget and forgive\, and repair broken relationships. The festival is als
 o an invocation for a good spring harvest season.The festival is celebrat
 ed by playing with colors\, water balloons\, etc. It would be similar to 
 what is popular now as the ‘Color Run’ but without running. There will be
  music and dancing\, along with some light refreshments and drinks.SASA h
 ad its first Holi event on campus in 2017 and it has been an annual event
  since (except during COVID).
X-ALT-DESC;FMTTYPE=text/html:&lt;html&gt;&lt;head&gt;&lt;title&gt;&lt;/title&gt;&lt;/head&gt;&lt;body&gt;&lt;p&gt;Jo
 in in the celebration of Holi with the South Asian Students Association (
 SASA).&lt;br&gt;&lt;br&gt;Holi\, also known as the Festival of Colors\, is one of the
  most popular and significant festivals in Hinduism. It celebrates the et
 ernal and divine love of god Radha and Krishna. The day also signifies th
 e triumph of good over evil\, as it commemorates the victory of god Vishn
 u as Narasimha Narayana over Hiranyakashipu. It originated and is predomi
 nantly celebrated in the Indian subcontinent but has also spread to other
  regions of Asia and parts of the Western world. Holi celebrates the arri
 val of spring (season)\, the end of winter and the blossoming of love\, a
 nd for many\, it is a festive day to meet others\, play and laugh\, forge
 t and forgive\, and repair broken relationships. The festival is also an 
 invocation for a good spring harvest season.&lt;br&gt;&lt;br&gt;The festival is celeb
 rated by playing with colors\, water balloons\, etc. It would be similar 
 to what is popular now as the ‘Color Run’ but without running. There will
  be music and dancing\, along with some light refreshments and drinks.&lt;br
 &gt;&lt;br&gt;SASA had its first Holi event on campus in 2017 and it has been an a
 nnual event since (except during COVID).&lt;/p&gt;&lt;/body&gt;&lt;/html&gt;
DTSTART;TZID=America/Chicago:20240323T110000
DTEND;TZID=America/Chicago:20240323T150000
SEQUENCE:0
URL:123096.png
CATEGORIES:Public,Alumni,Current Students,Faculty
END:VEVENT
END:VCALENDAR