BEGIN:VCALENDAR
VERSION:2.0
METHOD:PUBLISH
PRODID:-//Missouri State University/Calendar of Events//EN
CALSCALE:GREGORIAN
X-WR-TIMEZONE:America/Chicago
BEGIN:VTIMEZONE
TZID:America/Chicago
BEGIN:DAYLIGHT
TZOFFSETFROM:-0600
TZOFFSETTO:-0500
DTSTART:20070311T020000
RRULE:FREQ=YEARLY;BYMONTH=3;BYDAY=2SU
TZNAME:CDT
END:DAYLIGHT
BEGIN:STANDARD
TZOFFSETFROM:-0500
TZOFFSETTO:-0600
DTSTART:20071104T020000
RRULE:FREQ=YEARLY;BYMONTH=11;BYDAY=1SU
TZNAME:CST
END:STANDARD
END:VTIMEZONE
BEGIN:VEVENT
UID:00000000-0000-0000-0000-000000000000.234627@calendar.missouristate.edu
CREATED:20240228T154531Z
LAST-MODIFIED:20240228T154531Z
LOCATION:To Be Determined
SUMMARY:Springfield Alumni Chapter Happy Hour
DESCRIPTION:Join the Springfield Alumni Chapter for a happy hour at the Un
 iversity Plaza Hotel. Get to know fellow Bears and meet your Alumni Chapt
 er leaders. Extend a warm welcome to our recent graduates as we strengthe
 n the Bear network in the area!
X-ALT-DESC;FMTTYPE=text/html:&lt;html&gt;&lt;head&gt;&lt;title&gt;&lt;/title&gt;&lt;/head&gt;&lt;body&gt;Join 
 the Springfield Alumni Chapter for a happy hour at the University Plaza H
 otel. Get to know fellow Bears and meet your Alumni Chapter leaders. Exte
 nd a warm welcome to our recent graduates as we strengthen the Bear netwo
 rk in the area!&lt;/body&gt;&lt;/html&gt;
DTSTART;TZID=America/Chicago:20240325T163000
DTEND;TZID=America/Chicago:20240325T183000
SEQUENCE:0
URL:https://missouristate.imodules.com?sid=1691&amp;gid=2&amp;pgid=3639&amp;cid=6411&amp;e
 cid=6411&amp;ciid=22315&amp;crid=0
CATEGORIES:Public,Alumni,Parents and Family,Visitors
END:VEVENT
END:VCALENDAR