BEGIN:VCALENDAR
VERSION:2.0
METHOD:PUBLISH
PRODID:-//Missouri State University/Calendar of Events//EN
CALSCALE:GREGORIAN
X-WR-TIMEZONE:America/Chicago
BEGIN:VTIMEZONE
TZID:America/Chicago
BEGIN:DAYLIGHT
TZOFFSETFROM:-0600
TZOFFSETTO:-0500
DTSTART:20070311T020000
RRULE:FREQ=YEARLY;BYMONTH=3;BYDAY=2SU
TZNAME:CDT
END:DAYLIGHT
BEGIN:STANDARD
TZOFFSETFROM:-0500
TZOFFSETTO:-0600
DTSTART:20071104T020000
RRULE:FREQ=YEARLY;BYMONTH=11;BYDAY=1SU
TZNAME:CST
END:STANDARD
END:VTIMEZONE
BEGIN:VEVENT
UID:2023c635-8835-4a46-93cc-5c97b497220c.234510@calendar.missouristate.edu
CREATED:20240228T224418Z
LAST-MODIFIED:20240228T224418Z
LOCATION:
SUMMARY:PAMS Seminar: "Mind the Gap: Capturing the Bright and Fast Transie
 nt Sky Missed by Rubin/LSST with LS4" by Dr. Adam Miller
DESCRIPTION:Dr. Adam MillerNorthwestern UniversityDepartment of Physics an
 d Astronomy\n\n\nAbstract:In this talk I will discuss open questions in o
 ur quest to develop a map between progenitor systems and supernova explos
 ions. Solving the puzzle has important ramifications for understanding th
 e chemical enrichment of the Universe and galactic evolution and feedback
 . I will highlight Type Ia supernovae and discuss an exquisite set of obs
 ervations obtained by the Zwicky Transient Facility (ZTF). From the early
  observations we can constrain the progenitors\, and we have recently ide
 ntified a new subclass of peculiar Type Ia supernovae that comes from a u
 nique progenitor channel. To close I will discuss a new project\, the La 
 Silla Schmidt Southern Survey (LS4). LS4 will complement observations fro
 m the upcoming Rubin Observatory Legacy Survey of Space and Time (LSST) b
 y providing observations of bright and fast transients that will be misse
 d by LSST.\n\n\n\n\n\nThis is a Zoom seminar: 915 2072 1543
X-ALT-DESC;FMTTYPE=text/html:&lt;html&gt;&lt;head&gt;&lt;title&gt;&lt;/title&gt;&lt;/head&gt;&lt;body&gt;&lt;p&gt;&lt;b
 &gt;Dr. Adam Miller&lt;br&gt;Northwestern University&lt;/b&gt;&lt;br&gt;&lt;b&gt;Department of Physi
 cs and Astronomy&lt;/b&gt;&lt;br&gt;&lt;strong&gt;&lt;br&gt;&lt;/strong&gt;&lt;/p&gt;\n&lt;p&gt;Abstract:&lt;br&gt;In thi
 s talk I will discuss open questions in our quest to develop a map betwee
 n progenitor systems and supernova explosions. Solving the puzzle has imp
 ortant ramifications for understanding the chemical enrichment of the Uni
 verse and galactic evolution and feedback. I will highlight Type Ia super
 novae and discuss an exquisite set of observations obtained by the Zwicky
  Transient Facility (ZTF). From the early observations we can constrain t
 he progenitors\, and we have recently identified a new subclass of peculi
 ar Type Ia supernovae that comes from a unique progenitor channel. To clo
 se I will discuss a new project\, the La Silla Schmidt Southern Survey (L
 S4). LS4 will complement observations from the upcoming Rubin Observatory
  Legacy Survey of Space and Time (LSST) by providing observations of brig
 ht and fast transients that will be missed by LSST.&lt;/p&gt;\n&lt;p&gt;&lt;/p&gt;\n&lt;p&gt;This
  is a Zoom seminar: 915 2072 1543&lt;/p&gt;\n&lt;p&gt;&lt;/p&gt;&lt;/body&gt;&lt;/html&gt;
DTSTART;TZID=America/Chicago:20240307T160000
DTEND;TZID=America/Chicago:20240307T170000
SEQUENCE:0
URL:https://physics.missouristate.edu/seminars.htm
CATEGORIES:Public,Alumni,Current Students,Faculty,Future Students,Staff
END:VEVENT
END:VCALENDAR