BEGIN:VCALENDAR
VERSION:2.0
METHOD:PUBLISH
PRODID:-//Missouri State University/Calendar of Events//EN
CALSCALE:GREGORIAN
X-WR-TIMEZONE:America/Chicago
BEGIN:VTIMEZONE
TZID:America/Chicago
BEGIN:DAYLIGHT
TZOFFSETFROM:-0600
TZOFFSETTO:-0500
DTSTART:20070311T020000
RRULE:FREQ=YEARLY;BYMONTH=3;BYDAY=2SU
TZNAME:CDT
END:DAYLIGHT
BEGIN:STANDARD
TZOFFSETFROM:-0500
TZOFFSETTO:-0600
DTSTART:20071104T020000
RRULE:FREQ=YEARLY;BYMONTH=11;BYDAY=1SU
TZNAME:CST
END:STANDARD
END:VTIMEZONE
BEGIN:VEVENT
UID:163c9727-d7f6-40b2-ad9d-6828f6678d46_11151@calendar.missouristate.edu
CREATED:20240229T195837Z
LAST-MODIFIED:20240229T195837Z
LOCATION:Plaster Student Union\, Robert W. 308C
SUMMARY:Faithful Conversations
DESCRIPTION:Faithful Conversations is back! We’ll tackle big questions at 
 the intersections of faith and life\, share highs and lows from our lives
  and create a space of intentional deeper connection. If you’re looking f
 or a community you can share life with\, want to be more involved in the 
 Ekklesia community but aren’t a worship type of person or want a space to
  discuss all of the big and small topics on your mind\, come join the con
 versation.
X-ALT-DESC;FMTTYPE=text/html:&lt;html&gt;&lt;head&gt;&lt;title&gt;&lt;/title&gt;&lt;/head&gt;&lt;body&gt;&lt;p di
 r="ltr"&gt;&lt;span&gt;Faithful Conversations is back! We’ll tackle big questions 
 at the intersections of faith and life\, share highs and lows from our li
 ves and create a space of intentional deeper connection. If you’re lookin
 g for a community you can share life with\, want to be more involved in t
 he Ekklesia community but aren’t a worship type of person or want a space
  to discuss all of the big and small topics on your mind\, come join the 
 conversation. &lt;/span&gt;&lt;/p&gt;&lt;/body&gt;&lt;/html&gt;
DTSTART;TZID=America/Chicago:20240301T150000
DTEND;TZID=America/Chicago:20240301T160000
RRULE:FREQ=WEEKLY;BYDAY=TH;UNTIL=20240427
SEQUENCE:9
URL:http://ekklesiamsu.org
CATEGORIES:Current Students
END:VEVENT
END:VCALENDAR