BEGIN:VCALENDAR
VERSION:2.0
METHOD:PUBLISH
PRODID:-//Missouri State University/Calendar of Events//EN
CALSCALE:GREGORIAN
X-WR-TIMEZONE:America/Chicago
BEGIN:VTIMEZONE
TZID:America/Chicago
BEGIN:DAYLIGHT
TZOFFSETFROM:-0600
TZOFFSETTO:-0500
DTSTART:20070311T020000
RRULE:FREQ=YEARLY;BYMONTH=3;BYDAY=2SU
TZNAME:CDT
END:DAYLIGHT
BEGIN:STANDARD
TZOFFSETFROM:-0500
TZOFFSETTO:-0600
DTSTART:20071104T020000
RRULE:FREQ=YEARLY;BYMONTH=11;BYDAY=1SU
TZNAME:CST
END:STANDARD
END:VTIMEZONE
BEGIN:VEVENT
UID:ce71f35e-6cd5-41c0-8bfc-d0c54940a245_11152@calendar.missouristate.edu
CREATED:20240229T195745Z
LAST-MODIFIED:20240229T195745Z
LOCATION:Plaster Student Union\, Robert W. PSU Food Court
SUMMARY:Lunch Bunch
DESCRIPTION:Grab your lunch and join us in the PSU food court! Drop in as 
 you’re able and stay as long as you can. This is a great time to just cha
 t and find a community of support\, even in your busy schedule. Whether y
 ou’re interested in being more involved in Ekklesia or you just want to h
 ang out with some cool people\, you're more than welcome!
X-ALT-DESC;FMTTYPE=text/html:&lt;html&gt;&lt;head&gt;&lt;title&gt;&lt;/title&gt;&lt;/head&gt;&lt;body&gt;&lt;p di
 r="ltr"&gt;&lt;span&gt;Grab your lunch and join us in the PSU food court! Drop in 
 as you’re able and stay as long as you can. This is a great time to just 
 chat and find a community of support\, even in your busy schedule. Whethe
 r you’re interested in being more involved in Ekklesia or you just want t
 o hang out with some cool people\, you're more than welcome!&lt;/span&gt;&lt;/p&gt;&lt;/
 body&gt;&lt;/html&gt;
DTSTART;TZID=America/Chicago:20240307T123000
DTEND;TZID=America/Chicago:20240307T140000
RRULE:FREQ=WEEKLY;BYDAY=WE;UNTIL=20240503
SEQUENCE:9
URL:http://ekklesiamsu.org
CATEGORIES:Current Students
END:VEVENT
END:VCALENDAR