BEGIN:VCALENDAR
VERSION:2.0
METHOD:PUBLISH
PRODID:-//Missouri State University/Calendar of Events//EN
CALSCALE:GREGORIAN
X-WR-TIMEZONE:America/Chicago
BEGIN:VTIMEZONE
TZID:America/Chicago
BEGIN:DAYLIGHT
TZOFFSETFROM:-0600
TZOFFSETTO:-0500
DTSTART:20070311T020000
RRULE:FREQ=YEARLY;BYMONTH=3;BYDAY=2SU
TZNAME:CDT
END:DAYLIGHT
BEGIN:STANDARD
TZOFFSETFROM:-0500
TZOFFSETTO:-0600
DTSTART:20071104T020000
RRULE:FREQ=YEARLY;BYMONTH=11;BYDAY=1SU
TZNAME:CST
END:STANDARD
END:VTIMEZONE
BEGIN:VEVENT
UID:4cb48370-659d-477f-ac2f-6e73bd232554.234531@calendar.missouristate.edu
CREATED:20240301T142511Z
LAST-MODIFIED:20240301T142511Z
LOCATION:Glass Hall\, David D. 438
SUMMARY:Biology Seminar: "How do Bacteria Organize Their Cell Envelope Str
 ucture"
DESCRIPTION:The Biology Department will host a seminar featuring Dr. Takeh
 iro Kado from the University of Massachusetts Amherst. The topic of the s
 eminar is "How do Bacteria Organize Their Cell Envelope Structure." 
X-ALT-DESC;FMTTYPE=text/html:&lt;html&gt;&lt;head&gt;&lt;title&gt;&lt;/title&gt;&lt;/head&gt;&lt;body&gt;&lt;p&gt;Th
 e Biology Department will host a seminar featuring Dr. Takehiro Kado from
  the University of Massachusetts Amherst. The topic of the seminar is "Ho
 w do Bacteria Organize Their Cell Envelope Structure."&amp;nbsp\; &lt;/p&gt;&lt;/body&gt;
 &lt;/html&gt;
DTSTART;TZID=America/Chicago:20240304T160000
DTEND;TZID=America/Chicago:20240304T170000
SEQUENCE:0
URL:
CATEGORIES:Alumni,Current Students,Faculty,Staff
END:VEVENT
END:VCALENDAR