BEGIN:VCALENDAR
VERSION:2.0
METHOD:PUBLISH
PRODID:-//Missouri State University/Calendar of Events//EN
CALSCALE:GREGORIAN
X-WR-TIMEZONE:America/Chicago
BEGIN:VTIMEZONE
TZID:America/Chicago
BEGIN:DAYLIGHT
TZOFFSETFROM:-0600
TZOFFSETTO:-0500
DTSTART:20070311T020000
RRULE:FREQ=YEARLY;BYMONTH=3;BYDAY=2SU
TZNAME:CDT
END:DAYLIGHT
BEGIN:STANDARD
TZOFFSETFROM:-0500
TZOFFSETTO:-0600
DTSTART:20071104T020000
RRULE:FREQ=YEARLY;BYMONTH=11;BYDAY=1SU
TZNAME:CST
END:STANDARD
END:VTIMEZONE
BEGIN:VEVENT
UID:c6ae0ddb-f7e0-43c7-9801-e141c8c80267.234533@calendar.missouristate.edu
CREATED:20240315T191334Z
LAST-MODIFIED:20240315T191334Z
LOCATION:Cheek Hall 151
SUMMARY:Microsoft Excel Level 2 (Intermediate) - Lead Yourself 
DESCRIPTION:Are you ready to take your Excel skills to the next level? Thi
 s hybrid online/seated course combines the benefits of learning at your o
 wn pace through LinkedIn Learning with the flexibility and interaction of
  a seated instructor-led workshop. You will dive deeper into Excel’s feat
 ures to improve your efficiency and productivity. Join this workshop to l
 earn additional skills that help you manage data in Excel and produce hig
 h quality infographics. Note: for those new to Excel\, please complete th
 e Microsoft Excel Level 1 (Beginner) course first. \n\n\nFacilitator: Kar
 en Eisman \n\n\n\n\n\nCourse Structure:\n\n\n\n\n\nLinkedIn Learning Pre-
 work: Participants will be assigned a Learning Path in LinkedIn Learning 
 titled: 'Microsoft Excel Level 2 (Intermediate)' The Learning Path should
  be completed BEFORE attending the workshop. This content will familiariz
 e learners with sorting data\, building charts\, and using PivotTables in
  Excel. Participants will receive an assignment email from LinkedIn Learn
 ing. \n\n\n\n\n\nSeated Session facilitated by Karen Eisman: During the 2
 -hour Instructor-led workshop\, the LinkedIn Learning content will be rev
 iewed and applied to hands-on activities designed to reinforce the concep
 ts.
X-ALT-DESC;FMTTYPE=text/html:&lt;html&gt;&lt;head&gt;&lt;title&gt;&lt;/title&gt;&lt;/head&gt;&lt;body&gt;&lt;p&gt;Ar
 e you ready to take your Excel skills to the next level? This hybrid onli
 ne/seated course combines the benefits of learning at your own pace throu
 gh LinkedIn Learning with the flexibility and interaction of a seated ins
 tructor-led workshop. You will dive deeper into Excel’s features to impro
 ve your efficiency and productivity. Join this workshop to learn addition
 al skills that help you manage data in Excel and produce high quality inf
 ographics. Note: for those new to Excel\, please complete the Microsoft E
 xcel Level 1 (Beginner) course first.&amp;nbsp\;&lt;/p&gt;\n&lt;p&gt;Facilitator: Karen E
 isman&amp;nbsp\;&lt;/p&gt;\n&lt;p&gt;&lt;/p&gt;\n&lt;p&gt;&lt;span&gt;Course Structure:&lt;/span&gt;&lt;/p&gt;\n&lt;p&gt;&lt;/p&gt;
 \n&lt;p&gt;&lt;strong&gt;LinkedIn Learning Pre-work:&lt;/strong&gt;&amp;nbsp\;Participants will
  be assigned a&amp;nbsp\;Learning Path&amp;nbsp\;in&amp;nbsp\;LinkedIn Learning&amp;nbsp\
 ;titled:&amp;nbsp\;'Microsoft Excel Level 2 (Intermediate)'&amp;nbsp\;The&amp;nbsp\;L
 earning Path&amp;nbsp\;should be completed&amp;nbsp\;BEFORE&amp;nbsp\;attending the w
 orkshop. This content will familiarize learners with sorting data\, build
 ing charts\, and using PivotTables in Excel. Participants will receive an
  assignment email from&amp;nbsp\;LinkedIn Learning.&amp;nbsp\;&lt;/p&gt;\n&lt;p&gt;&lt;/p&gt;\n&lt;p&gt;&lt;
 strong&gt;Seated Session facilitated by Karen Eisman:&lt;/strong&gt;&amp;nbsp\;During 
 the 2-hour Instructor-led workshop\, the&amp;nbsp\;LinkedIn Learning&amp;nbsp\;co
 ntent will be reviewed and applied to hands-on activities designed to rei
 nforce the concepts.&lt;/p&gt;\n&lt;p&gt;&lt;/p&gt;&lt;/body&gt;&lt;/html&gt;
DTSTART;TZID=America/Chicago:20240410T133000
DTEND;TZID=America/Chicago:20240410T153000
SEQUENCE:0
URL:https://blogs.missouristate.edu/human/2024/02/29/flourish-this-spring-
 with-our-power-skills-and-excel-workshops/
CATEGORIES:Faculty,Staff
END:VEVENT
END:VCALENDAR