BEGIN:VCALENDAR
VERSION:2.0
METHOD:PUBLISH
PRODID:-//Missouri State University/Calendar of Events//EN
CALSCALE:GREGORIAN
X-WR-TIMEZONE:America/Chicago
BEGIN:VTIMEZONE
TZID:America/Chicago
BEGIN:DAYLIGHT
TZOFFSETFROM:-0600
TZOFFSETTO:-0500
DTSTART:20070311T020000
RRULE:FREQ=YEARLY;BYMONTH=3;BYDAY=2SU
TZNAME:CDT
END:DAYLIGHT
BEGIN:STANDARD
TZOFFSETFROM:-0500
TZOFFSETTO:-0600
DTSTART:20071104T020000
RRULE:FREQ=YEARLY;BYMONTH=11;BYDAY=1SU
TZNAME:CST
END:STANDARD
END:VTIMEZONE
BEGIN:VEVENT
UID:34995308-3beb-4444-ae7d-fc04c3927247.234542@calendar.missouristate.edu
CREATED:20240304T175812Z
LAST-MODIFIED:20240304T175812Z
LOCATION:https://us02web.zoom.us/j/84523260804
SUMMARY:Board of Governors Special Meeting
DESCRIPTION:The Missouri State University Board of Governors will hold a s
 pecial meeting via Zoom webinar. This was previously scheduled as an Exec
 utive Committee meeting.\n\n\n\n\n\nMeeting agendas cand be found here:\n
 \n\n\nhttps://www.missouristate.edu/BOG/Agendas/
X-ALT-DESC;FMTTYPE=text/html:&lt;html&gt;&lt;head&gt;&lt;title&gt;&lt;/title&gt;&lt;/head&gt;&lt;body&gt;&lt;p&gt;&lt;s
 pan&gt;The Missouri State University Board of Governors will hold a special 
 meeting via Zoom webinar. This was previously scheduled as an Executive C
 ommittee meeting.&lt;/span&gt;&lt;/p&gt;\n&lt;p&gt;&lt;span&gt;&lt;/span&gt;&lt;/p&gt;\n&lt;p&gt;Meeting agendas ca
 nd be found here:&lt;/p&gt;\n&lt;ul&gt;\n&lt;li&gt;&lt;a href="https://www.missouristate.edu/B
 OG/Agendas/"&gt;https://www.missouristate.edu/BOG/Agendas/&lt;/a&gt;&lt;/li&gt;\n&lt;/ul&gt;&lt;/
 body&gt;&lt;/html&gt;
DTSTART;TZID=America/Chicago:20240320T150000
DTEND;TZID=America/Chicago:20240320T170000
SEQUENCE:0
URL:https://www.missouristate.edu/BOG/
CATEGORIES:Public,Alumni,Current Students,Faculty,Future Students,Staff
END:VEVENT
END:VCALENDAR