BEGIN:VCALENDAR
VERSION:2.0
METHOD:PUBLISH
PRODID:-//Missouri State University/Calendar of Events//EN
CALSCALE:GREGORIAN
X-WR-TIMEZONE:America/Chicago
BEGIN:VTIMEZONE
TZID:America/Chicago
BEGIN:DAYLIGHT
TZOFFSETFROM:-0600
TZOFFSETTO:-0500
DTSTART:20070311T020000
RRULE:FREQ=YEARLY;BYMONTH=3;BYDAY=2SU
TZNAME:CDT
END:DAYLIGHT
BEGIN:STANDARD
TZOFFSETFROM:-0500
TZOFFSETTO:-0600
DTSTART:20071104T020000
RRULE:FREQ=YEARLY;BYMONTH=11;BYDAY=1SU
TZNAME:CST
END:STANDARD
END:VTIMEZONE
BEGIN:VEVENT
UID:4c5834bb-b67d-4fc9-bd2a-1e16e79e3328.234544@calendar.missouristate.edu
CREATED:20240307T212652Z
LAST-MODIFIED:20240307T212652Z
LOCATION:
SUMMARY:11th Annual Hope on Wheels Car Show 
DESCRIPTION:American Marketing Association proudly presents our 11th Annua
 l Hope on Wheels Car Show! This event helps our organization to raise mon
 ey for Convoy of Hope.\n\n\nPlease join us in parking lots #22 and #24 ac
 ross from the Plaster Stadium.\n\n\nThere will food\, games\, raffles and
  of course\, awards for the winning cars. The event is free for spectator
 s.\n\n\nRegister in advance.
X-ALT-DESC;FMTTYPE=text/html:&lt;html&gt;&lt;head&gt;&lt;title&gt;&lt;/title&gt;&lt;/head&gt;&lt;body&gt;&lt;p&gt;Am
 erican Marketing Association proudly presents our 11th Annual Hope on Whe
 els Car Show! This event helps our organization to raise money for Convoy
  of Hope.&lt;/p&gt;\n&lt;p&gt;Please join us in parking lots #22 and #24 across from 
 the Plaster Stadium.&lt;/p&gt;\n&lt;p&gt;There will food\, games\, raffles and of cou
 rse\, awards for the winning cars. The event is free for spectators.&lt;/p&gt;\
 n&lt;p&gt;&lt;a href="https://carshowpro.com/event/1675"&gt;Register in advance&lt;/a&gt;.&lt;
 /p&gt;\n&lt;p&gt;&lt;/p&gt;&lt;/body&gt;&lt;/html&gt;
DTSTART;TZID=America/Chicago:20240420T080000
DTEND;TZID=America/Chicago:20240420T140000
SEQUENCE:0
URL:https://www.facebook.com/MSUHopeOnWheels/
CATEGORIES:Public
END:VEVENT
END:VCALENDAR