BEGIN:VCALENDAR
VERSION:2.0
METHOD:PUBLISH
PRODID:-//Missouri State University/Calendar of Events//EN
CALSCALE:GREGORIAN
X-WR-TIMEZONE:America/Chicago
BEGIN:VTIMEZONE
TZID:America/Chicago
BEGIN:DAYLIGHT
TZOFFSETFROM:-0600
TZOFFSETTO:-0500
DTSTART:20070311T020000
RRULE:FREQ=YEARLY;BYMONTH=3;BYDAY=2SU
TZNAME:CDT
END:DAYLIGHT
BEGIN:STANDARD
TZOFFSETFROM:-0500
TZOFFSETTO:-0600
DTSTART:20071104T020000
RRULE:FREQ=YEARLY;BYMONTH=11;BYDAY=1SU
TZNAME:CST
END:STANDARD
END:VTIMEZONE
BEGIN:VEVENT
UID:eb42962e-0a79-495d-ae75-c493219fd9d9.234545@calendar.missouristate.edu
CREATED:20240315T142716Z
LAST-MODIFIED:20240315T142716Z
LOCATION:Cheek Hall 151
SUMMARY:Microsoft Excel Level 3 (Advanced) - Lead Yourself 
DESCRIPTION:It’s time to unlock the true powers of Microsoft Excel! This h
 ybrid online/seated course combines the benefits of learning at your own 
 pace with LinkedIn Learning and the flexibility and interaction of a seat
 ed instructor-led workshop. Bring your spreadsheets to life as you master
  formulas\, functions and other advanced data management tools!\n\n\nNote
 : for those new to Excel\, please complete the Microsoft Excel Level 1 (B
 eginner) and Micrsoft Excel Level 2 (Intermediate) courses first. \n\n\nF
 acilitator: Karen Eisman \n\n\n \n\n\nCourse Structure:\n\n\n \n\n\nLinke
 dIn Learning Pre-work: Participants will be assigned a Learning Path in L
 inkedIn Learning titled: 'Microsoft Excel Level 3 (Advanced).' The Learni
 ng Path should be completed BEFORE attending the workshop. This content w
 ill familiarize learners with 3D &amp; 4D referencing\, data validation\, con
 ditional formatting\, and formulas and functions. Participants will recei
 ve an assignment email from LinkedIn Learning. \n\n\n\n\n\nSeated Session
  facilitated by Karen Eisman: During the 2-hour Instructor-led workshop\,
  the LinkedIn Learning content will be reviewed and applied to hands-on a
 ctivities designed to reinforce the concepts.\n\n\n 
X-ALT-DESC;FMTTYPE=text/html:&lt;html&gt;&lt;head&gt;&lt;title&gt;&lt;/title&gt;&lt;/head&gt;&lt;body&gt;&lt;p&gt;It
 ’s time to unlock the true powers of Microsoft Excel! This hybrid online/
 seated course combines the benefits of learning at your own pace with Lin
 kedIn Learning and the flexibility and interaction of a seated instructor
 -led workshop. Bring your spreadsheets to life as you master formulas\, f
 unctions and other advanced data management tools!&lt;/p&gt;\n&lt;p&gt;Note: for thos
 e new to Excel\, please complete the Microsoft Excel Level 1 (Beginner) a
 nd Micrsoft Excel Level 2 (Intermediate) courses first.&amp;nbsp\;&lt;/p&gt;\n&lt;p&gt;Fa
 cilitator: Karen Eisman&amp;nbsp\;&lt;/p&gt;\n&lt;p&gt;&amp;nbsp\;&lt;/p&gt;\n&lt;p&gt;&lt;strong&gt;Course Str
 ucture:&lt;/strong&gt;&lt;/p&gt;\n&lt;p&gt;&amp;nbsp\;&lt;/p&gt;\n&lt;p&gt;&lt;strong&gt;LinkedIn Learning Pre-wo
 rk:&lt;/strong&gt;&amp;nbsp\;Participants will be assigned a&amp;nbsp\;Learning Path&amp;nb
 sp\;in&amp;nbsp\;LinkedIn Learning&amp;nbsp\;titled:&amp;nbsp\;'Microsoft Excel Level
  3 (Advanced).'&amp;nbsp\;The&amp;nbsp\;Learning Path&amp;nbsp\;should be completed&amp;n
 bsp\;BEFORE&amp;nbsp\;attending the workshop. This content will familiarize l
 earners with 3D &amp;amp\; 4D referencing\, data validation\, conditional for
 matting\, and formulas and functions. Participants&amp;nbsp\;will receive an 
 assignment email from&amp;nbsp\;LinkedIn Learning.&amp;nbsp\;&lt;/p&gt;\n&lt;p&gt;&lt;/p&gt;\n&lt;p&gt;&lt;s
 trong&gt;Seated Session facilitated by Karen Eisman&lt;/strong&gt;:&amp;nbsp\;During t
 he 2-hour Instructor-led workshop\, the&amp;nbsp\;LinkedIn Learning&amp;nbsp\;con
 tent will be reviewed and applied to hands-on activities designed to rein
 force the concepts.&lt;/p&gt;\n&lt;p&gt;&amp;nbsp\;&lt;/p&gt;&lt;/body&gt;&lt;/html&gt;
DTSTART;TZID=America/Chicago:20240501T133000
DTEND;TZID=America/Chicago:20240501T153000
SEQUENCE:0
URL:https://blogs.missouristate.edu/human/2024/02/29/flourish-this-spring-
 with-our-power-skills-and-excel-workshops/
CATEGORIES:Faculty,Staff
END:VEVENT
END:VCALENDAR