BEGIN:VCALENDAR
VERSION:2.0
METHOD:PUBLISH
PRODID:-//Missouri State University/Calendar of Events//EN
CALSCALE:GREGORIAN
X-WR-TIMEZONE:America/Chicago
BEGIN:VTIMEZONE
TZID:America/Chicago
BEGIN:DAYLIGHT
TZOFFSETFROM:-0600
TZOFFSETTO:-0500
DTSTART:20070311T020000
RRULE:FREQ=YEARLY;BYMONTH=3;BYDAY=2SU
TZNAME:CDT
END:DAYLIGHT
BEGIN:STANDARD
TZOFFSETFROM:-0500
TZOFFSETTO:-0600
DTSTART:20071104T020000
RRULE:FREQ=YEARLY;BYMONTH=11;BYDAY=1SU
TZNAME:CST
END:STANDARD
END:VTIMEZONE
BEGIN:VEVENT
UID:4d6b53ff-a849-4dc2-a2a2-9d5bffbab220.234546@calendar.missouristate.edu
CREATED:20240314T214401Z
LAST-MODIFIED:20240314T214401Z
LOCATION:Pummill Hall 305
SUMMARY:MSU LEAD ON: Growth From Failure 
DESCRIPTION:Challenge the norm of focusing solely on strengths and success
 es and explore the benefits of embracing failure as a tool for growth. By
  examining mindsets\, applying rules for constructive failure analysis an
 d understanding feedback\, leaders will develop skills to harness setback
 s for personal and professional development. Through reflection\, partici
 pants will gain self-awareness and resilience in their leadership journey
 .\n\n\nFacilitator: Dr. Carrisa Hoelscher\n\n\nThe MSU LEAD ON workshops 
 support continued professional development in the supervisor training\, M
 SU LEAD OTHERS: The Supervisor Series.
X-ALT-DESC;FMTTYPE=text/html:&lt;html&gt;&lt;head&gt;&lt;title&gt;&lt;/title&gt;&lt;/head&gt;&lt;body&gt;&lt;p&gt;Ch
 allenge the norm of focusing solely on strengths and successes and explor
 e the benefits of embracing failure as a tool for growth. By examining mi
 ndsets\, applying rules for constructive failure analysis and understandi
 ng feedback\, leaders will develop skills to harness setbacks for persona
 l and professional development. Through reflection\, participants will ga
 in self-awareness and resilience in their leadership journey.&lt;/p&gt;\n&lt;p&gt;&lt;sp
 an&gt;Facilitator: Dr. Carrisa Hoelscher&lt;/span&gt;&lt;/p&gt;\n&lt;p&gt;The &lt;strong&gt;MSU LEAD
  ON&lt;/strong&gt; workshops support continued professional development in the 
 supervisor training\, &lt;strong&gt;MSU LEAD OTHERS: The Supervisor Series&lt;/str
 ong&gt;.&lt;/p&gt;\n&lt;p&gt;&lt;/p&gt;\n&lt;p&gt;&lt;/p&gt;\n&lt;p&gt;&lt;/p&gt;&lt;/body&gt;&lt;/html&gt;
DTSTART;TZID=America/Chicago:20240501T083000
DTEND;TZID=America/Chicago:20240501T113000
SEQUENCE:0
URL:https://blogs.missouristate.edu/human/2024/02/22/msu-lead-on-superviso
 r-workshops-available/
CATEGORIES:Faculty,Staff
END:VEVENT
END:VCALENDAR